BEGIN:VCALENDAR
PRODID:NingEventWidget-v1
VERSION:2.0
METHOD:PUBLISH
BEGIN:VTIMEZONE
TZID:Europe/Paris
X-LIC-LOCATION:Europe/Paris
BEGIN:DAYLIGHT
TZOFFSETFROM:+0100
TZOFFSETTO:+0200
TZNAME:CEST
DTSTART:19700329T020000
RRULE:FREQ=YEARLY;BYMONTH=3;BYDAY=-1SU
END:DAYLIGHT
BEGIN:STANDARD
TZOFFSETFROM:+0200
TZOFFSETTO:+0100
TZNAME:CET
DTSTART:19701025T030000
RRULE:FREQ=YEARLY;BYMONTH=10;BYDAY=-1SU
END:STANDARD
END:VTIMEZONE
BEGIN:VEVENT
UID:2485226:Event:699773
DTSTAMP:20260423T135340Z
SUMMARY:Atelier de guérison par jeu de miroir
DESCRIPTION:‘I equal us’ propose des ateliers de guérison en gro
 upe, d’une dizaine de personnes guidés par Katia, Michaël et Thoma
 s, guérisseurs holistiques. Le projet est né à New York en novembr
 e 2011 où nous avons organisé les premières sessions à Central Par
 k. \nLe travail de groupe facilite le processus de guérison personne
 lle. La relation aux autres induit un effet miroir qui révèle des pr
 oblématiques souvent communes aux participants: famille, travail, arg
 ent, couple, sexualité, spiritualité...\nL'autre devient un reflet d
 e nous-mêmes, ce qui facilite la mise en lumière et la compréhensio
 n de nos problématiques. En terme énergétique, cet effet miroir cr
 ée une résonance et syntonise l’énergie qui peut être traitée p
 ar le magnétiseur.\nLes thèmes abordés dépendront des intentions d
 e chacun, de l’énergie du groupe et du lieu.\nLa participation se f
 ait sur don libre.\n Pour plus d'information et pour réserver, écri
 vez-nous à i.equal.us@gmail.com  ou par tèl Michael : 06 10 63 6
 4 64 Ou Thomas : 06 88 55 78 10\n\nPour plus d'information, aller sur
  https://epanews.fr/events/atelier-de-gu-rison-par-jeu-de-miroir
DTSTART;TZID=Europe/Paris:20120226T140000
DTEND;TZID=Europe/Paris:20120226T180000
CATEGORIES:75
LOCATION:Paris
WEBSITE:http://i.equal.us.over-blog.com/
URL:http://i.equal.us.over-blog.com/
CONTACT:Michael au O6 10 63 64 64
ORGANIZER;CN=Katia:https://epanews.fr/profile/Katia
ATTACH;FMTTYPE="image/jpeg":
ATTENDEE;ROLE=REQ-PARTICIPANT;PARTSTAT=ACCEPTED;RSVP=TRUE;CN=Katia:htt
 ps://epanews.fr/profile/Katia
END:VEVENT
END:VCALENDAR
