BEGIN:VCALENDAR
PRODID:NingEventWidget-v1
VERSION:2.0
METHOD:PUBLISH
BEGIN:VTIMEZONE
TZID:Europe/Paris
X-LIC-LOCATION:Europe/Paris
BEGIN:DAYLIGHT
TZOFFSETFROM:+0100
TZOFFSETTO:+0200
TZNAME:CEST
DTSTART:19700329T020000
RRULE:FREQ=YEARLY;BYMONTH=3;BYDAY=-1SU
END:DAYLIGHT
BEGIN:STANDARD
TZOFFSETFROM:+0200
TZOFFSETTO:+0100
TZNAME:CET
DTSTART:19701025T030000
RRULE:FREQ=YEARLY;BYMONTH=10;BYDAY=-1SU
END:STANDARD
END:VTIMEZONE
BEGIN:VEVENT
UID:2485226:Event:2776929
DTSTAMP:20260422T151159Z
SUMMARY:Atelier de guÃ©rison de la blessure de rejet
DESCRIPTION:Samedi 25 fÃ©vrier Ã  Montpellier de 17h Ã  19hComme au co
 urs de mon parcours, j'ai constatÃ© que nous avions tous 7 blessures Ã
 ©motionnelles logÃ©es dans nos chakras, je vous propose 7 ateliers de 
 guÃ©rison des blessures Ã©motionnelles. Ces ateliers se dÃ©rouleront s
 ous forme de mÃ©ditations guidÃ©es au cours desquelles, vous allez ent
 rer en contact avec vos blessures Ã©motionnelles pour les libÃ©rer. Vo
 us aurez Ã©galement un accompagnement pour vous aider Ã  rÃ©tablir les
  croyances gÃ©nÃ©rales liÃ©es aux diffÃ©rentes blessures. Les ateliers
  sont prÃ©vus sur 2h chacun.Ce premier atelier concerne la blessure de
  rejet, pour plus d'information voici les liens vers mes articles et v
 idÃ©os qui concernent cette blessure :https://www.youtube.com/watch?v=
 lGQ7gHzkSq0https://www.youtube.com/watch?v=J-4KWrajrMwhttp://inspirela
 vie.agenda.lautre.net/blessure-de-rejet/Tarif : 20 euros les 2hLieu : 
 Centre le jardin999 avenue du Pont Trinquat34070 MontpellierPour les i
 ndications cliquez sur ce lien => http://www.psychologie-biodynamique.
 com/prochainsrv/acces-Centre-MPL.pdfVous Ãªtes du cÃ´tÃ© de Montpellie
 r ou de La Grande Motte et vous avez la possibilitÃ© d'accueillir entr
 e 5 et 10 personnes chez vous. Vous pouvez me contacter pour que je vi
 enne animer des ateliers chez vous. L'atelier est offert pour la perso
 nne qui reÃ§oitPour me contacter :TÃ©l : 06 26 33 16 22 Mail : contact
 @inspirelavie.com\n\nPour plus d'information, aller sur https://epanew
 s.fr/events/atelier-de-gu-rison-de-la-blessure-de-rejet
DTSTART;TZID=Europe/Paris:20170225T170000
DTEND;TZID=Europe/Paris:20170225T190000
CATEGORIES:34
LOCATION:Montpellier
WEBSITE:http://www.inspirelavie.com
URL:http://www.inspirelavie.com
CONTACT:
ORGANIZER;CN=Nathy:https://epanews.fr/profile/Nathy662
ATTACH;FMTTYPE="image/jpeg":http://storage.ning.com/topology/rest/1.0/
 file/get/1663639085?profile=original
ATTENDEE;ROLE=REQ-PARTICIPANT;PARTSTAT=ACCEPTED;RSVP=TRUE;CN=Nathy:htt
 ps://epanews.fr/profile/Nathy662
END:VEVENT
END:VCALENDAR
