BEGIN:VCALENDAR
PRODID:NingEventWidget-v1
VERSION:2.0
METHOD:PUBLISH
BEGIN:VTIMEZONE
TZID:Europe/Paris
X-LIC-LOCATION:Europe/Paris
BEGIN:DAYLIGHT
TZOFFSETFROM:+0100
TZOFFSETTO:+0200
TZNAME:CEST
DTSTART:19700329T020000
RRULE:FREQ=YEARLY;BYMONTH=3;BYDAY=-1SU
END:DAYLIGHT
BEGIN:STANDARD
TZOFFSETFROM:+0200
TZOFFSETTO:+0100
TZNAME:CET
DTSTART:19701025T030000
RRULE:FREQ=YEARLY;BYMONTH=10;BYDAY=-1SU
END:STANDARD
END:VTIMEZONE
BEGIN:VEVENT
UID:2485226:Event:879315
DTSTAMP:20260423T111929Z
SUMMARY:Ateliers mensuels de Do-In et méditation à Lyon
DESCRIPTION:Je vous propose un cycle d'ateliers de Do-In pour vous app
 rendre à vous auto-masser sur les trajets des méridiens et points d'
 acupuncture. Le Do-In est un réveil énergétique de tout le corps, e
 t permet de relâcher les tensions. Pratiqué régulièrement, il a de
 s bienfaits pour maintenir et améliorer la santé, tant physique que 
 psychique.\nAprès avoir réveillé le corps et l'esprit, nous pourron
 s nous poser pour contacter un espace intérieur insoupçonné.\nAprè
 s avoir présenté ce qu'est la méditation, je vous transmets les mé
 thodes que je pratique depuis 4 ans. La méditation dite du calme ment
 al, avec et sans support, la méditation sur la compassion, des pratiq
 ues d'amour bienveillant vis à vis de soi même et des autres.\nL'ate
 lier dure 2 heures de 18h30 à 20h30.\nTarif : 30 euros et 25 euros en
  tarif réduit.\nTarif binôme/couple : 25 euros par personne.\n \n 
 \n\nPour plus d'information, aller sur https://epanews.fr/events/ateli
 er-de-do-in-et-meditation
DTSTART;TZID=Europe/Paris:20130429T183000
DTEND;TZID=Europe/Paris:20130429T203000
CATEGORIES:69
LOCATION:Lyon 4ème
WEBSITE:http://artdutoucher.eklablog.com
URL:http://artdutoucher.eklablog.com
CONTACT:06 18 78 27 07
ORGANIZER;CN=Valérie:https://epanews.fr/profile/Valerie248
ATTACH;FMTTYPE="image/jpeg":http://storage.ning.com/topology/rest/1.0/
 file/get/1662634103?profile=original
ATTENDEE;ROLE=REQ-PARTICIPANT;PARTSTAT=ACCEPTED;RSVP=TRUE;CN=Valérie:
 https://epanews.fr/profile/Valerie248
END:VEVENT
END:VCALENDAR
