BEGIN:VCALENDAR
PRODID:NingEventWidget-v1
VERSION:2.0
METHOD:PUBLISH
BEGIN:VTIMEZONE
TZID:Europe/Paris
X-LIC-LOCATION:Europe/Paris
BEGIN:DAYLIGHT
TZOFFSETFROM:+0100
TZOFFSETTO:+0200
TZNAME:CEST
DTSTART:19700329T020000
RRULE:FREQ=YEARLY;BYMONTH=3;BYDAY=-1SU
END:DAYLIGHT
BEGIN:STANDARD
TZOFFSETFROM:+0200
TZOFFSETTO:+0100
TZNAME:CET
DTSTART:19701025T030000
RRULE:FREQ=YEARLY;BYMONTH=10;BYDAY=-1SU
END:STANDARD
END:VTIMEZONE
BEGIN:VEVENT
UID:2485226:Event:948434
DTSTAMP:20260420T222500Z
SUMMARY:atelier de danses sacrées du monde et tambour dimanche 21 oct
 obre
DESCRIPTION:atelier de danses sacrées du monde et tambour dans une sa
 lle extraordinaire (dodécadome)\n\nPour plus d'information, aller sur
  https://epanews.fr/events/atelier-de-danses-sacr-es-du-monde-et-tambo
 ur-dimanche-21-octobre
DTSTART;TZID=Europe/Paris:20121021T093000
DTEND;TZID=Europe/Paris:20121021T180000
CATEGORIES:26
LOCATION:à la ferme de baume rousse près de Crest dans la Drôme
WEBSITE:
URL:
CONTACT:
ORGANIZER;CN=Lasya:https://epanews.fr/profile/LaureMartin
ATTACH;FMTTYPE="image/jpeg":http://storage.ning.com/topology/rest/1.0/
 file/get/1662667576?profile=original
ATTENDEE;ROLE=REQ-PARTICIPANT;PARTSTAT=ACCEPTED;RSVP=TRUE;CN=Lasya:htt
 ps://epanews.fr/profile/LaureMartin
END:VEVENT
END:VCALENDAR
