BEGIN:VCALENDAR
PRODID:NingEventWidget-v1
VERSION:2.0
METHOD:PUBLISH
BEGIN:VTIMEZONE
TZID:Europe/Paris
X-LIC-LOCATION:Europe/Paris
BEGIN:DAYLIGHT
TZOFFSETFROM:+0100
TZOFFSETTO:+0200
TZNAME:CEST
DTSTART:19700329T020000
RRULE:FREQ=YEARLY;BYMONTH=3;BYDAY=-1SU
END:DAYLIGHT
BEGIN:STANDARD
TZOFFSETFROM:+0200
TZOFFSETTO:+0100
TZNAME:CET
DTSTART:19701025T030000
RRULE:FREQ=YEARLY;BYMONTH=10;BYDAY=-1SU
END:STANDARD
END:VTIMEZONE
BEGIN:VEVENT
UID:2485226:Event:2184143
DTSTAMP:20260422T124031Z
SUMMARY:atelier de danse soufie
DESCRIPTION:\n\nPour plus d'information, aller sur https://epanews.fr/
 events/atelier-de-danse-soufie
DTSTART;TZID=Europe/Paris:20150118T140000
DTEND;TZID=Europe/Paris:20150118T170000
CATEGORIES:69
LOCATION:Centre culturel Artesya
WEBSITE:
URL:
CONTACT:0618052928
ORGANIZER;CN=chatmallow:https://epanews.fr/profile/chatmallow
ATTACH;FMTTYPE="image/jpeg":
ATTENDEE;ROLE=REQ-PARTICIPANT;PARTSTAT=ACCEPTED;RSVP=TRUE;CN=chatmallo
 w:https://epanews.fr/profile/chatmallow
END:VEVENT
END:VCALENDAR
