BEGIN:VCALENDAR
PRODID:NingEventWidget-v1
VERSION:2.0
METHOD:PUBLISH
BEGIN:VTIMEZONE
TZID:Europe/Paris
X-LIC-LOCATION:Europe/Paris
BEGIN:DAYLIGHT
TZOFFSETFROM:+0100
TZOFFSETTO:+0200
TZNAME:CEST
DTSTART:19700329T020000
RRULE:FREQ=YEARLY;BYMONTH=3;BYDAY=-1SU
END:DAYLIGHT
BEGIN:STANDARD
TZOFFSETFROM:+0200
TZOFFSETTO:+0100
TZNAME:CET
DTSTART:19701025T030000
RRULE:FREQ=YEARLY;BYMONTH=10;BYDAY=-1SU
END:STANDARD
END:VTIMEZONE
BEGIN:VEVENT
UID:2485226:Event:2263268
DTSTAMP:20260422T035021Z
SUMMARY:Atelier de danse mÃ©ditative
DESCRIPTION:InspirÃ© de la danse des 5 RythmesÂ© mise au point par Gab
 rielle Roth et des danses tribales,Â l'atelier La Vague en Danse est s
 ource de vitalitÃ© et de transformation.\nDans une vague de vie, le co
 rps explore au grÃ© des 5 rythmes de l'Univers laÂ connexion Ã  soi, Ã
   l'autre, au groupe, Ã  l'environnement et au monde.\nThÃ©matique duÂ
  jourÂ - La vague de vie sauvageÂ \nToute info atelier, rÃ©servation e
 t tarif sur le siteÂ www.lavaguedevie.net\n\n\nPour plus d'information
 , aller sur https://epanews.fr/events/atelier-de-danse-m-ditative-2
DTSTART;TZID=Europe/Paris:20150412T100000
DTEND;TZID=Europe/Paris:20150412T120000
CATEGORIES:75
LOCATION:Paris 20e
WEBSITE:
URL:
CONTACT:0683252454
ORGANIZER;CN=shamandra:https://epanews.fr/profile/shamandra
ATTACH;FMTTYPE="image/jpeg":http://storage.ning.com/topology/rest/1.0/
 file/get/1663351268?profile=original
ATTENDEE;ROLE=REQ-PARTICIPANT;PARTSTAT=ACCEPTED;RSVP=TRUE;CN=shamandra
 :https://epanews.fr/profile/shamandra
END:VEVENT
END:VCALENDAR
