BEGIN:VCALENDAR
PRODID:NingEventWidget-v1
VERSION:2.0
METHOD:PUBLISH
BEGIN:VTIMEZONE
TZID:Europe/Paris
X-LIC-LOCATION:Europe/Paris
BEGIN:DAYLIGHT
TZOFFSETFROM:+0100
TZOFFSETTO:+0200
TZNAME:CEST
DTSTART:19700329T020000
RRULE:FREQ=YEARLY;BYMONTH=3;BYDAY=-1SU
END:DAYLIGHT
BEGIN:STANDARD
TZOFFSETFROM:+0200
TZOFFSETTO:+0100
TZNAME:CET
DTSTART:19701025T030000
RRULE:FREQ=YEARLY;BYMONTH=10;BYDAY=-1SU
END:STANDARD
END:VTIMEZONE
BEGIN:VEVENT
UID:2485226:Event:638988
DTSTAMP:20260423T040806Z
SUMMARY:Atelier de Danse Biodynamique
DESCRIPTION:Prévoir une ou deux couvertures pour le temps de relaxati
 on...\nUn temps de repas en partage.\nN'hésitez pas à me contacter p
 ar mail ou téléphone.\nToutes les infos sur http://beloiseau.blogspo
 t.com/\n\nPour plus d'information, aller sur https://epanews.fr/events
 /atelier-de-danse-biodynamique
DTSTART;TZID=Europe/Paris:20120108T100000
DTEND;TZID=Europe/Paris:20120108T163000
CATEGORIES:69
LOCATION:Lyon 
WEBSITE:
URL:
CONTACT:
ORGANIZER:Bel'Oiseau
ATTACH;FMTTYPE="image/jpeg":http://storage.ning.com/topology/rest/1.0/
 file/get/1662526200?profile=original
ATTENDEE;ROLE=REQ-PARTICIPANT;PARTSTAT=ACCEPTED;RSVP=TRUE;CN="Estelle 
 Fayat":https://epanews.fr/profile/EstelleFayat
END:VEVENT
END:VCALENDAR
