BEGIN:VCALENDAR
PRODID:NingEventWidget-v1
VERSION:2.0
METHOD:PUBLISH
BEGIN:VTIMEZONE
TZID:Europe/Paris
X-LIC-LOCATION:Europe/Paris
BEGIN:DAYLIGHT
TZOFFSETFROM:+0100
TZOFFSETTO:+0200
TZNAME:CEST
DTSTART:19700329T020000
RRULE:FREQ=YEARLY;BYMONTH=3;BYDAY=-1SU
END:DAYLIGHT
BEGIN:STANDARD
TZOFFSETFROM:+0200
TZOFFSETTO:+0100
TZNAME:CET
DTSTART:19701025T030000
RRULE:FREQ=YEARLY;BYMONTH=10;BYDAY=-1SU
END:STANDARD
END:VTIMEZONE
BEGIN:VEVENT
UID:2485226:Event:639086
DTSTAMP:20260424T010718Z
SUMMARY:Atelier de Danse Biodynamique
DESCRIPTION:Prévoir une ou deux couvertures polaires...\nUn temps de 
 repas en partage.\nToutes les infos sur : http://beloiseau.blogspot.co
 m/\nN'hésitez pas à me contacter.\nEstelle Fayat de Bel'Oiseau\n\n\n
 Pour plus d'information, aller sur https://epanews.fr/events/atelier-d
 e-danse-biodynamique-1
DTSTART;TZID=Europe/Paris:20120114T100000
DTEND;TZID=Europe/Paris:20120114T163000
CATEGORIES:07
LOCATION:Tournon sur Rhône
WEBSITE:http://www.bulle-de-quietude.com
URL:http://www.bulle-de-quietude.com
CONTACT:
ORGANIZER: Bel'Oiseau
ATTACH;FMTTYPE="image/jpeg":http://storage.ning.com/topology/rest/1.0/
 file/get/1662526766?profile=original
ATTENDEE;ROLE=REQ-PARTICIPANT;PARTSTAT=ACCEPTED;RSVP=TRUE;CN="Estelle 
 Fayat":https://epanews.fr/profile/EstelleFayat
END:VEVENT
END:VCALENDAR
