BEGIN:VCALENDAR
PRODID:NingEventWidget-v1
VERSION:2.0
METHOD:PUBLISH
BEGIN:VTIMEZONE
TZID:Europe/Paris
X-LIC-LOCATION:Europe/Paris
BEGIN:DAYLIGHT
TZOFFSETFROM:+0100
TZOFFSETTO:+0200
TZNAME:CEST
DTSTART:19700329T020000
RRULE:FREQ=YEARLY;BYMONTH=3;BYDAY=-1SU
END:DAYLIGHT
BEGIN:STANDARD
TZOFFSETFROM:+0200
TZOFFSETTO:+0100
TZNAME:CET
DTSTART:19701025T030000
RRULE:FREQ=YEARLY;BYMONTH=10;BYDAY=-1SU
END:STANDARD
END:VTIMEZONE
BEGIN:VEVENT
UID:2485226:Event:2698879
DTSTAMP:20260421T211115Z
SUMMARY:Atelier de découverte de massage Parents / Enfants
DESCRIPTION:                         EVEIL DU CORPS ET DU
  CŒUR\nMercredi 31 Août de 16h à 17h\nLoft Zen, 12 rue Gigodot- Cro
 ix Rousse 69004\n\n Le toucher est un de nos besoins fondamentaux él
 émentaires, et un facteur très important dans le développement du s
 ystème nerveux.\nIl apaise, détend, ressource, équilibre.\nAu-delà
  d'une meilleure connaissance de leur corps, les enfants apprennent é
 galement le respect de soi et des autres, la confiance, le partage.\nC
 et atelier vous présente un toucher sain et nourrissant suivant le pr
 otocole international MISP (Massage in School Programme),\nAdressé au
 x enfants de 4 à 12 ans, le massage se fait habillé, sur la tête, l
 e dos et les bras.\nJe vous proposerais un massage ludique et simple \
 "la météo\".\nInscription obligatoire par mail, place limitée .\nAd
 resse : martinecuzin@gmail.com \nUne participation au chapeau sera de
 mandée pour les frais de location.\nMartine Cuzin Instructrice en mas
 sage école ( www.misa-france.fr) Somatothérapeute - Relation d'Aide 
 par le Toucher\n06 79 83 78 22 www.massage-therapie-lyon.com\n\nPour 
 plus d'information, aller sur https://epanews.fr/events/atelier-de-d-c
 ouverte-de-massage-parents-enfants
DTSTART;TZID=Europe/Paris:20160831T160000
DTEND;TZID=Europe/Paris:20160831T170000
CATEGORIES:69
LOCATION:LYON Loft-Zen
WEBSITE:https://goo.gl/maps/6tyF9xi52ey
URL:https://goo.gl/maps/6tyF9xi52ey
CONTACT:06 79 83 78 22
ORGANIZER:Martine CUZIN
ATTACH;FMTTYPE="image/jpeg":http://storage.ning.com/topology/rest/1.0/
 file/get/1663595270?profile=original
ATTENDEE;ROLE=REQ-PARTICIPANT;PARTSTAT=ACCEPTED;RSVP=TRUE;CN=gem-masse
 r:https://epanews.fr/profile/gem_masser
END:VEVENT
END:VCALENDAR
