BEGIN:VCALENDAR
PRODID:NingEventWidget-v1
VERSION:2.0
METHOD:PUBLISH
BEGIN:VTIMEZONE
TZID:Europe/Paris
X-LIC-LOCATION:Europe/Paris
BEGIN:DAYLIGHT
TZOFFSETFROM:+0100
TZOFFSETTO:+0200
TZNAME:CEST
DTSTART:19700329T020000
RRULE:FREQ=YEARLY;BYMONTH=3;BYDAY=-1SU
END:DAYLIGHT
BEGIN:STANDARD
TZOFFSETFROM:+0200
TZOFFSETTO:+0100
TZNAME:CET
DTSTART:19701025T030000
RRULE:FREQ=YEARLY;BYMONTH=10;BYDAY=-1SU
END:STANDARD
END:VTIMEZONE
BEGIN:VEVENT
UID:2485226:Event:991980
DTSTAMP:20260422T214252Z
SUMMARY:atelier de cuisine ayurvédique
DESCRIPTION:Préparation et dégustation d' un repas bio végétarien 
 selon  les règles diététiques et la philosophie de l' ayurvéda.\n
 Nombre de places limitées à 5.\nN' oubliez pas votre tablier et plan
 che à découper, ainsi que votre sari mesdames, si vous en avez.\nLe 
 repas se déroulera en toute convivialité, avec musique indienne !\nP
 articipation : 50 €\nrenseignements et inscriptions au 06.61.13.21.5
 9\n\nPour plus d'information, aller sur https://epanews.fr/events/atel
 ier-de-cuisine-ayurv-dique
DTSTART;TZID=Europe/Paris:20121202T090000
DTEND;TZID=Europe/Paris:20121202T150000
CATEGORIES:83
LOCATION:Toulon, l' adresse vous sera précisée ultérieurement
WEBSITE:
URL:
CONTACT:06.61.13.21.59
ORGANIZER;CN=helios-sante-bien-etre:https://epanews.fr/profile/sylviam
 ur
ATTACH;FMTTYPE="image/jpeg":http://storage.ning.com/topology/rest/1.0/
 file/get/1662684862?profile=original
ATTENDEE;ROLE=REQ-PARTICIPANT;PARTSTAT=ACCEPTED;RSVP=TRUE;CN=helios-sa
 nte-bien-etre:https://epanews.fr/profile/sylviamur
END:VEVENT
END:VCALENDAR
