BEGIN:VCALENDAR
PRODID:NingEventWidget-v1
VERSION:2.0
METHOD:PUBLISH
BEGIN:VTIMEZONE
TZID:Europe/Paris
X-LIC-LOCATION:Europe/Paris
BEGIN:DAYLIGHT
TZOFFSETFROM:+0100
TZOFFSETTO:+0200
TZNAME:CEST
DTSTART:19700329T020000
RRULE:FREQ=YEARLY;BYMONTH=3;BYDAY=-1SU
END:DAYLIGHT
BEGIN:STANDARD
TZOFFSETFROM:+0200
TZOFFSETTO:+0100
TZNAME:CET
DTSTART:19701025T030000
RRULE:FREQ=YEARLY;BYMONTH=10;BYDAY=-1SU
END:STANDARD
END:VTIMEZONE
BEGIN:VEVENT
UID:2485226:Event:1268790
DTSTAMP:20260422T220356Z
SUMMARY:Modification demandÃ©e
DESCRIPTION:Envie de vous dÃ©tendre, de passer un bon moment, de mettt
 re de cÃ´tÃ© le cÃ©rÃ©bral et de faire place Ã  votre crÃ©ativitÃ©. C'
 est le moment de participer Ã  la \"ParenthÃ¨se enchantÃ©e\"\n\nJ'ai p
 articipÃ© Ã  cet atelier \"CrÃ©ation\" il y a un mois et j'ai adorÃ©, 
 alors je partage l'info.\n\nRendez-vous samedi 27 avril :\nde 9h 30 Ã 
  13h Â ouÂ  de 14h Ã  17h30.\n\n\"Espace crÃ©ation\" : c'est le moment
  de crÃ©er votre boÃ®te personnalisÃ© (technique dÃ©copatch).Â BoÃ®te 
 Ã  bijoux, boÃ®te Ã  thÃ©, boÃ®te Ã  mouchoirsâ€¦\n\"Espace Bien-Ãªtre
 \" : pour dÃ©tendre le corps et Ã©veiller votre crÃ©ativitÃ©, recevez 
 un Massage-Bien-ÃŠtre Holistique. La sÃ©ance dÃ©couverte sera effectuÃ
 ©e dans une salle rÃ©servÃ©e Ã  cet effet : chaleur, douceur et parfum
  subtil. Massage aux huiles vÃ©gÃ©tales bio ou habillÃ©.\n\"Pause gour
 mande\" : un moment convivial autour de boissons chaudes, fraÃ®ches, f
 riandisesâ€¦\nTarif prÃ©fÃ©rentiel Ã‰PANEWS : 37 â‚¬ au lieu de 50 â‚¬
  pour toute inscription avant le 8 avril. Parrainage : vos ami(e)s son
 t les bienvenu(e)s. Si vous venez Ã  deux et si vous vous inscrivez av
 ant le 8 avril :\npour vous : 30 â‚¬ et pour votre filleul : 37 â‚¬.\n
 RÃ©servez votre place dÃ¨s maintenant.\nInformations & bulletin d'insc
 ription envoyÃ©s sur demande en MP. Quelques photos sur :\nhttps://www
 .facebook.com/isadeclo.creativedesigner?fref=t\n\nPour plus d'informat
 ion, aller sur https://epanews.fr/events/atelier-de-cr-ation-et-de-bie
 n-tre-13006-1
DTSTART;TZID=Europe/Paris:20130427T140000
DTEND;TZID=Europe/Paris:20130427T173000
CATEGORIES:13
LOCATION:Centre du Mont 13006
WEBSITE:http://www.carolverger.vpweb.fr
URL:http://www.carolverger.vpweb.fr
CONTACT:06 11 89 20 34
ORGANIZER;CN=VERGER:https://epanews.fr/profile/VERGER
ATTACH;FMTTYPE="image/jpeg":http://storage.ning.com/topology/rest/1.0/
 file/get/1662795676?profile=original
ATTENDEE;ROLE=REQ-PARTICIPANT;PARTSTAT=ACCEPTED;RSVP=TRUE;CN=VERGER:ht
 tps://epanews.fr/profile/VERGER
ATTENDEE;ROLE=REQ-PARTICIPANT;PARTSTAT=TENTATIVE;RSVP=TRUE;CN=chloÃ©:h
 ttps://epanews.fr/profile/chloe
END:VEVENT
END:VCALENDAR
