BEGIN:VCALENDAR
PRODID:NingEventWidget-v1
VERSION:2.0
METHOD:PUBLISH
BEGIN:VTIMEZONE
TZID:Europe/Paris
X-LIC-LOCATION:Europe/Paris
BEGIN:DAYLIGHT
TZOFFSETFROM:+0100
TZOFFSETTO:+0200
TZNAME:CEST
DTSTART:19700329T020000
RRULE:FREQ=YEARLY;BYMONTH=3;BYDAY=-1SU
END:DAYLIGHT
BEGIN:STANDARD
TZOFFSETFROM:+0200
TZOFFSETTO:+0100
TZNAME:CET
DTSTART:19701025T030000
RRULE:FREQ=YEARLY;BYMONTH=10;BYDAY=-1SU
END:STANDARD
END:VTIMEZONE
BEGIN:VEVENT
UID:2485226:Event:2639815
DTSTAMP:20260420T222648Z
SUMMARY:Atelier de crÃ©ation de Mandala
DESCRIPTION:Brigitte Jaunin, sophrologue, artiste et voyageuse FranÃ§a
 frique, aborde la crÃ©ation de mandala au travers d'un cheminement ind
 ividuel : imaginaire, formes et couleurs. Tout le matÃ©riel est fourni
 . Le repas est partagÃ© sur place. Aucune compÃ©tence spÃ©cifique requ
 ise.\n Brigitte dÃ©finit ainsi son atelier : \"Une pause pour lÃ¢cher-
 prise, se dÃ©tendre, rire, partager Un instant pour ne plus raisonner 
 mais laisser rÃ©sonner votre imaginaire Un temps pour soi, avec soi, l
 oin du tumulte, de lâ€™agitation du mental. Venez crÃ©er votre mandala
  Jouer avec les couleurs et slable requise.e nourrir de leur vibration
 . EntremÃªler les formes, abstraites, figuratives, les faire se cÃ´toy
 er dans une harmonie qui sera la vÃ´tre. Se laisser surprendre par lâ€
 ™Ã©nergie de votre mandala. DÃ©couvrir la symbolique du cercle et du c
 arrÃ© et laisser lâ€™Ã©lan crÃ©ateur agir.\"\nInscription sur facebook
  : https://www.facebook.com/events/461255024083971/\net sur le site de
  l'association Ã‰criture Plurielle : www.ecritureplurielle.fr\n\nPour 
 plus d'information, aller sur https://epanews.fr/events/atelier-de-cr-
 ation-de-mandala
DTSTART;TZID=Europe/Paris:20160603T000000
DTEND;TZID=Europe/Paris:20160603T235900
CATEGORIES:69
LOCATION:Atelier d'Ã‰criture PLurielle, 52, rue Salengro 69310 Pierre-
 BÃ©nite
WEBSITE:
URL:
CONTACT:
ORGANIZER;CN=Ecriplur:https://epanews.fr/profile/Ecriplur
ATTACH;FMTTYPE="image/jpeg":http://storage.ning.com/topology/rest/1.0/
 file/get/1663564365?profile=original
ATTENDEE;ROLE=REQ-PARTICIPANT;PARTSTAT=ACCEPTED;RSVP=TRUE;CN=Ecriplur:
 https://epanews.fr/profile/Ecriplur
END:VEVENT
END:VCALENDAR
