BEGIN:VCALENDAR
PRODID:NingEventWidget-v1
VERSION:2.0
METHOD:PUBLISH
BEGIN:VTIMEZONE
TZID:Europe/Paris
X-LIC-LOCATION:Europe/Paris
BEGIN:DAYLIGHT
TZOFFSETFROM:+0100
TZOFFSETTO:+0200
TZNAME:CEST
DTSTART:19700329T020000
RRULE:FREQ=YEARLY;BYMONTH=3;BYDAY=-1SU
END:DAYLIGHT
BEGIN:STANDARD
TZOFFSETFROM:+0200
TZOFFSETTO:+0100
TZNAME:CET
DTSTART:19701025T030000
RRULE:FREQ=YEARLY;BYMONTH=10;BYDAY=-1SU
END:STANDARD
END:VTIMEZONE
BEGIN:VEVENT
UID:2485226:Event:579063
DTSTAMP:20260423T121154Z
SUMMARY:Atelier de création de cosmétique Bio aux Huiles essentielle
 s
DESCRIPTION:Je vous propose de découvrir les bienfaits de la nature e
 n composant vos propres crèmes de visage, soins du corps, masques et 
 soins du visage à base d’huiles essentielles, de macérât, d’arg
 ile…Grâce à cet atelier vous repartirez avec un cosmétique en poc
 he et une méthode pour reproduire chez vous à l’infini le produit 
 cosmétique créé (et bien d’autres) qui vous convient très exacte
 ment par son effet, son odeur, sa texture. En un mot le vôtre !Venez 
 passer un moment agréable d’échange, de créativité, de senteurs 
 et d’onctuosité durant les 3 heures de cet atelier !Coût de cet at
 elier : 39,00 €Les dates des ateliers sur le mois de Novembre sont l
 es suivantes :Samedi 19 Novembre de 14h00 à 17h00Cet atelier vous don
 ne droit à :- La découverte botanique et vertus des huiles essentiel
 les utilisées- Un atelier de créations de cosmétiques- Un produit c
 osmétique créé lors de l’atelier- Des fiches recettesRenseignemen
 t & réservation au 06 21 91 23 59 ou par e-mail: formations@arom-bell
 evue.frwww.arom-bellevue.fr\n\nPour plus d'information, aller sur http
 s://epanews.fr/events/atelier-de-cr-ation-de-cosm-tique-bio-aux-huiles
 -essentielles
DTSTART;TZID=Europe/Paris:20111119T140000
DTEND;TZID=Europe/Paris:20111119T170000
CATEGORIES:33
LOCATION:Bordeaux
WEBSITE:http://www.arom-bellevue.fr
URL:http://www.arom-bellevue.fr
CONTACT:0621912359
ORGANIZER;CN="William Brumaud":https://epanews.fr/profile/WilliamBruma
 ud
ATTACH;FMTTYPE="image/jpeg":http://storage.ning.com/topology/rest/1.0/
 file/get/1662482741?profile=original
ATTENDEE;ROLE=REQ-PARTICIPANT;PARTSTAT=ACCEPTED;RSVP=TRUE;CN="William 
 Brumaud":https://epanews.fr/profile/WilliamBrumaud
END:VEVENT
END:VCALENDAR
