BEGIN:VCALENDAR
PRODID:NingEventWidget-v1
VERSION:2.0
METHOD:PUBLISH
BEGIN:VTIMEZONE
TZID:Europe/Paris
X-LIC-LOCATION:Europe/Paris
BEGIN:DAYLIGHT
TZOFFSETFROM:+0100
TZOFFSETTO:+0200
TZNAME:CEST
DTSTART:19700329T020000
RRULE:FREQ=YEARLY;BYMONTH=3;BYDAY=-1SU
END:DAYLIGHT
BEGIN:STANDARD
TZOFFSETFROM:+0200
TZOFFSETTO:+0100
TZNAME:CET
DTSTART:19701025T030000
RRULE:FREQ=YEARLY;BYMONTH=10;BYDAY=-1SU
END:STANDARD
END:VTIMEZONE
BEGIN:VEVENT
UID:2485226:Event:1059906
DTSTAMP:20260423T041541Z
SUMMARY:Atelier de cosmétique \"Home made\"
DESCRIPTION:Bonjour à toutes et tous,\nJe vous propose un atelier de 
 découverte des huiles végétales et des huiles essentielles, et fabr
 ication d'une crème visage maison adapté à votre peau. 25 euros l'a
 telier par personne pour 1 heure 30 de cours et de découverte des soi
 ns naturels. Inscription obligatoire, places limitées. N'oubliez pas 
 les chaussons pour l'entrée au centre.\nstephanie.hericourt@orange.fr
 \n\nPour plus d'information, aller sur https://epanews.fr/events/ateli
 er-de-cosm-tique-home-made
DTSTART;TZID=Europe/Paris:20130202T140000
DTEND;TZID=Europe/Paris:20130202T153000
CATEGORIES:59
LOCATION:Vieux-Lille
WEBSITE:http://Entre Ciel et Terre
URL:http://Entre Ciel et Terre
CONTACT:06.16.68.13.78
ORGANIZER;CN=Stéphanie:https://epanews.fr/profile/Stephanie400
ATTACH;FMTTYPE="image/jpeg":
ATTENDEE;ROLE=REQ-PARTICIPANT;PARTSTAT=ACCEPTED;RSVP=TRUE;CN=Stéphani
 e:https://epanews.fr/profile/Stephanie400
END:VEVENT
END:VCALENDAR
