BEGIN:VCALENDAR
PRODID:NingEventWidget-v1
VERSION:2.0
METHOD:PUBLISH
BEGIN:VTIMEZONE
TZID:Europe/Paris
X-LIC-LOCATION:Europe/Paris
BEGIN:DAYLIGHT
TZOFFSETFROM:+0100
TZOFFSETTO:+0200
TZNAME:CEST
DTSTART:19700329T020000
RRULE:FREQ=YEARLY;BYMONTH=3;BYDAY=-1SU
END:DAYLIGHT
BEGIN:STANDARD
TZOFFSETFROM:+0200
TZOFFSETTO:+0100
TZNAME:CET
DTSTART:19701025T030000
RRULE:FREQ=YEARLY;BYMONTH=10;BYDAY=-1SU
END:STANDARD
END:VTIMEZONE
BEGIN:VEVENT
UID:2485226:Event:1132158
DTSTAMP:20260421T223836Z
SUMMARY:Atelier de constellations familiales
DESCRIPTION:Atelier de constellations familiales concernant nos relati
 ons de couple.\nVous êtes les bienvenus.\n\nPour plus d'information, 
 aller sur https://epanews.fr/events/atelier-de-constellations-familial
 es-4
DTSTART;TZID=Europe/Paris:20130209T100000
DTEND;TZID=Europe/Paris:20130209T180000
CATEGORIES:51
LOCATION:Châlons en Champagne
WEBSITE:http://www.clairebouyssoux.com
URL:http://www.clairebouyssoux.com
CONTACT:06 23 68 50 24
ORGANIZER;CN="Claire BOUYSSOUX":https://epanews.fr/profile/ClaireBOUYS
 SOUX
ATTACH;FMTTYPE="image/jpeg":http://storage.ning.com/topology/rest/1.0/
 file/get/1662739467?profile=original
ATTENDEE;ROLE=REQ-PARTICIPANT;PARTSTAT=ACCEPTED;RSVP=TRUE;CN="Claire B
 OUYSSOUX":https://epanews.fr/profile/ClaireBOUYSSOUX
END:VEVENT
END:VCALENDAR
