BEGIN:VCALENDAR
PRODID:NingEventWidget-v1
VERSION:2.0
METHOD:PUBLISH
BEGIN:VTIMEZONE
TZID:Europe/Paris
X-LIC-LOCATION:Europe/Paris
BEGIN:DAYLIGHT
TZOFFSETFROM:+0100
TZOFFSETTO:+0200
TZNAME:CEST
DTSTART:19700329T020000
RRULE:FREQ=YEARLY;BYMONTH=3;BYDAY=-1SU
END:DAYLIGHT
BEGIN:STANDARD
TZOFFSETFROM:+0200
TZOFFSETTO:+0100
TZNAME:CET
DTSTART:19701025T030000
RRULE:FREQ=YEARLY;BYMONTH=10;BYDAY=-1SU
END:STANDARD
END:VTIMEZONE
BEGIN:VEVENT
UID:2485226:Event:609741
DTSTAMP:20260423T040750Z
SUMMARY:atelier de constellations familiales
DESCRIPTION:Ateliers de decouverte des constellations familiales\nAnim
 és par Karima Ayad et Patricia Bidault\n\nLa méthode des constellati
 ons familiales permet de travailler en thérapie brève des problémat
 iques personnelles ou héritées de son clan familial et Transgénéra
 tionnel.\nTous les domaines : le travail, la santé, l’affect, les l
 oyautés invisibles … peuvent être mis en lumière.\nLes ateliers o
 nt pour but grâce à cet outil de mettre en scène, les différents s
 ujets abordés par les participants au cours de la soirée et d'y appo
 rter un éclairage nouveau, pour s'en défaire et les des-enkyster.\nT
 OUS LES  LUNDI  SOIRS  DE 19H30 A 23H\nA TECHNOPOLE VAR MATIN Ollio
 ules\nContact pour Réservation & Informations\nKarima Ayad 06 17 78 
 27 60  ou\nPatricia Bidault 06 60 26 80 53\nTarif : 20 Euros l’Ate
 lier\n\n\nPour plus d'information, aller sur https://epanews.fr/events
 /atelier-de-constellations-familiales-2
DTSTART;TZID=Europe/Paris:20111205T193000
DTEND;TZID=Europe/Paris:20111205T230000
CATEGORIES:83
LOCATION:toulon 
WEBSITE:
URL:
CONTACT:
ORGANIZER;CN="karima ayad":https://epanews.fr/profile/karimaayad
ATTACH;FMTTYPE="image/jpeg":
ATTENDEE;ROLE=REQ-PARTICIPANT;PARTSTAT=ACCEPTED;RSVP=TRUE;CN="karima a
 yad":https://epanews.fr/profile/karimaayad
END:VEVENT
END:VCALENDAR
