BEGIN:VCALENDAR
PRODID:NingEventWidget-v1
VERSION:2.0
METHOD:PUBLISH
BEGIN:VTIMEZONE
TZID:Europe/Paris
X-LIC-LOCATION:Europe/Paris
BEGIN:DAYLIGHT
TZOFFSETFROM:+0100
TZOFFSETTO:+0200
TZNAME:CEST
DTSTART:19700329T020000
RRULE:FREQ=YEARLY;BYMONTH=3;BYDAY=-1SU
END:DAYLIGHT
BEGIN:STANDARD
TZOFFSETFROM:+0200
TZOFFSETTO:+0100
TZNAME:CET
DTSTART:19701025T030000
RRULE:FREQ=YEARLY;BYMONTH=10;BYDAY=-1SU
END:STANDARD
END:VTIMEZONE
BEGIN:VEVENT
UID:2485226:Event:2886992
DTSTAMP:20260422T013913Z
SUMMARY:Atelier de Constellations Familiales
DESCRIPTION:Les Ateliers de Constellations systémiques activent les d
 ynamiques inconscientes qui motivent nos comportements. Elles permette
 nt de dénouer des schémas bloquants dans la recherche de notre propr
 e solution. Les blocages les plus connus sont ceux issus de notre hér
 itage familial et du transgénérationnel.\nLes Constellations mettent
  en valeur notre cerveau intuitif et sensible, là où se trouvent nos
  motivations profondes. Cette connexion nous permet de mieux percevoir
  les jeux de projection et ce à quoi nous nous identifions.\nPlus nou
 s sommes en contact avec notre entièreté, plus nous pouvons nous sit
 uer avec plus de justesse dans notre vie, agir et non pas subir.\nIl s
 e crée du fait de l'implication des participants une dynamique où ci
 rcule des informations pour le vécu qui permettent de contribuer à q
 uelque chose de plus riche que ce que le sujet pourrait réaliser seul
 .\nPour participer, pas besoin de savoir particulier, mais accepter de
  déposer les masques, avec bienveillance.\n\nContact et Inscription p
 réalable : damplanet@free.fr / 06 89 09 76 95\nPlus d'informations : 
 http://realisationdesoi-dochalib.blogspot.fr\nIntervenante : Dominique
  Agnès Ragoy, psychothérapeute sophrologue\n\nPour plus d'informatio
 n, aller sur https://epanews.fr/events/atelier-de-constellations-famil
 iales-16
DTSTART;TZID=Europe/Paris:20171108T183000
DTEND;TZID=Europe/Paris:20171108T213000
CATEGORIES:13
LOCATION:l'Atelier de Soi, à Aix en Provence
WEBSITE:http://realisationdesoi-dochalib.blogspot.fr
URL:http://realisationdesoi-dochalib.blogspot.fr
CONTACT:0689097695
ORGANIZER;CN=dominique:https://epanews.fr/profile/domi
ATTACH;FMTTYPE="image/jpeg":http://storage.ning.com/topology/rest/1.0/
 file/get/1663693477?profile=original
ATTENDEE;ROLE=REQ-PARTICIPANT;PARTSTAT=ACCEPTED;RSVP=TRUE;CN=dominique
 :https://epanews.fr/profile/domi
END:VEVENT
END:VCALENDAR
