BEGIN:VCALENDAR
PRODID:NingEventWidget-v1
VERSION:2.0
METHOD:PUBLISH
BEGIN:VTIMEZONE
TZID:Europe/Paris
X-LIC-LOCATION:Europe/Paris
BEGIN:DAYLIGHT
TZOFFSETFROM:+0100
TZOFFSETTO:+0200
TZNAME:CEST
DTSTART:19700329T020000
RRULE:FREQ=YEARLY;BYMONTH=3;BYDAY=-1SU
END:DAYLIGHT
BEGIN:STANDARD
TZOFFSETFROM:+0200
TZOFFSETTO:+0100
TZNAME:CET
DTSTART:19701025T030000
RRULE:FREQ=YEARLY;BYMONTH=10;BYDAY=-1SU
END:STANDARD
END:VTIMEZONE
BEGIN:VEVENT
UID:2485226:Event:1240145
DTSTAMP:20260421T184203Z
SUMMARY:Atelier de chant harmonique
DESCRIPTION:Pour transmettre le chant harmonique, c’est une grande v
 ariété d’exercices pratiques qui voussont proposés par Catherine 
 Darbord. Ils vous permettront de produire les harmoniques, selonune de
 s techniques traditionnelles de Mongolie. L’instrument qu’est le c
 orps est progressivementéveillé et mis en résonance, à travers une
  exploration vocale minutieusement orchestrée. Attention,les places s
 ont comptées: 20 personnes maximum!Catherine Darbord enseigne le chan
 t harmonique depuis 1990, ainsi que le didgeridoo dans le cadrede séa
 nces individuelles et de stages en France et à l’étranger. Concert
 iste elle s’accompagned’autres instruments, comme la guimbarde, le
 s bols tibétains, le tambour chamane. Thérapeutepsycho-corporelle, k
 inésiologue, musicothérapeute énergétique, elle pratique égalemen
 t le rebirth.\nhttps://www.youtube.com/watch?v=WtKltlHRSoM\nstageCH%20
 Lausanne%20mai13%2B%2B%2B.pdf\n\nPour plus d'information, aller sur ht
 tps://epanews.fr/events/atelier-de-chant-harmonique
DTSTART;TZID=Europe/Paris:20130525T093000
DTEND;TZID=Europe/Paris:20130526T163000
CATEGORIES:suisse
LOCATION:Lotus Studio (www.lotus-studio.ch), 1er étage à gauche
WEBSITE:http://goo.gl/maps/KIYJR
URL:http://goo.gl/maps/KIYJR
CONTACT:C. Darbord au 06.33.61.68.21 ou A. & D. Zanni, au +41 (0) 24 4
 41 81 86
ORGANIZER;CN="DARBORD Catherine":https://epanews.fr/profile/DARBORDCat
 herine
ATTACH;FMTTYPE="image/jpeg":http://storage.ning.com/topology/rest/1.0/
 file/get/1662783714?profile=original
ATTENDEE;ROLE=REQ-PARTICIPANT;PARTSTAT=ACCEPTED;RSVP=TRUE;CN="DARBORD 
 Catherine":https://epanews.fr/profile/DARBORDCatherine
END:VEVENT
END:VCALENDAR
