BEGIN:VCALENDAR
PRODID:NingEventWidget-v1
VERSION:2.0
METHOD:PUBLISH
BEGIN:VTIMEZONE
TZID:Europe/Paris
X-LIC-LOCATION:Europe/Paris
BEGIN:DAYLIGHT
TZOFFSETFROM:+0100
TZOFFSETTO:+0200
TZNAME:CEST
DTSTART:19700329T020000
RRULE:FREQ=YEARLY;BYMONTH=3;BYDAY=-1SU
END:DAYLIGHT
BEGIN:STANDARD
TZOFFSETFROM:+0200
TZOFFSETTO:+0100
TZNAME:CET
DTSTART:19701025T030000
RRULE:FREQ=YEARLY;BYMONTH=10;BYDAY=-1SU
END:STANDARD
END:VTIMEZONE
BEGIN:VEVENT
UID:2485226:Event:2267671
DTSTAMP:20260422T051403Z
SUMMARY:Atelier de Chant Harmonique
DESCRIPTION:voir le flyer\nVous Ãªtes-vous dÃ©jÃ  laissÃ© emporter par
  la magie des sons harmoniquesÂ ?\nJe vous propose de les sentir vibre
 r et rÃ©sonner en vous, Ã  travers la pratique du chant harmonique (ch
 ant diphonique). Votre voix s'en trouvera ainsi enrichie et rÃ©vÃ©lÃ©e
 . Ensemble, nous allons sculpter la matiÃ¨re sonore.\nLâ€™instrument q
 uâ€™est le corps est progressivement Ã©veillÃ© et mis en rÃ©sonance, Ã
   travers une vaste exploration vocale minutieusement orchestrÃ©e. Le 
 souffle se pose et se libÃ¨re. Une qualitÃ© de prÃ©sence sâ€™installe.
 \nÂ Â Â  La plupart des pratiques se font ensemble et en cercle. Certa
 ins exercices se pratiquent par deux ou par petits groupes. Les consei
 ls sont individualisÃ©s.\nÂ Â Â  Un travail spÃ©cifique est proposÃ© s
 ur la conscience prÃ©cise de lâ€™appareil vocal, sur la recherche du t
 imbre et de la rÃ©sonance, et sur une Ã©coute fine des sons subtils qu
 e sont les harmoniques.Â  Cette approche peut enrichir la pratique de 
 toute autre forme de chant (jazz, lyrique, choralâ€¦).\nElle est cepen
 dant ouverte Ã  tous, avec ou sans expÃ©rience musicale.\n\nPour plus 
 d'information, aller sur https://epanews.fr/events/atelier-de-chant-ha
 rmonique-1
DTSTART;TZID=Europe/Paris:20150403T183000
DTEND;TZID=Europe/Paris:20150403T200000
CATEGORIES:30
LOCATION:NÃ®mes
WEBSITE:http://www.vibrationwakanda.com/detail-93.htm
URL:http://www.vibrationwakanda.com/detail-93.htm
CONTACT:06.33.61.68.21.
ORGANIZER;CN="Catherine DARBORD":https://epanews.fr/profile/CatherineD
 ARBORD
ATTACH;FMTTYPE="image/jpeg":http://storage.ning.com/topology/rest/1.0/
 file/get/1663356522?profile=original
ATTENDEE;ROLE=REQ-PARTICIPANT;PARTSTAT=ACCEPTED;RSVP=TRUE;CN="Catherin
 e DARBORD":https://epanews.fr/profile/CatherineDARBORD
END:VEVENT
END:VCALENDAR
