BEGIN:VCALENDAR
PRODID:NingEventWidget-v1
VERSION:2.0
METHOD:PUBLISH
BEGIN:VTIMEZONE
TZID:Europe/Paris
X-LIC-LOCATION:Europe/Paris
BEGIN:DAYLIGHT
TZOFFSETFROM:+0100
TZOFFSETTO:+0200
TZNAME:CEST
DTSTART:19700329T020000
RRULE:FREQ=YEARLY;BYMONTH=3;BYDAY=-1SU
END:DAYLIGHT
BEGIN:STANDARD
TZOFFSETFROM:+0200
TZOFFSETTO:+0100
TZNAME:CET
DTSTART:19701025T030000
RRULE:FREQ=YEARLY;BYMONTH=10;BYDAY=-1SU
END:STANDARD
END:VTIMEZONE
BEGIN:VEVENT
UID:2485226:Event:2922944
DTSTAMP:20260420T111244Z
SUMMARY:Atelier danse tournante d'inspiration soufie, avec musique liv
 e
DESCRIPTION:Danse tournante d'inspiration soufieDanse de l'âme incarn
 ée, axe du monde, la danse tournante d'inspiration soufie nous mène 
 au cœur de soi, jusqu'à la désintégration et la révélation du my
 stère. Tournant en spirale, inspiré e , nous découvrons l’expéri
 ence de la rencontre avec notre être profond. C’est un espace de li
 berté totale, une recherche de plénitude, une expérience personnell
 e et intime à travers la giration.Au cours de ce processus : médita
 tion, souffle et danse, danse tournante, musique live.Tarif : 35€>>>
 >> Inscriptions nécessaires par mail, sms, téléphone« Dans les cad
 ences de la musique est caché un secret, si je le révélais il boule
 verserait le monde » RûmiCet atelier est proposé par :\nLaetitia Ch
 arrueau, animatrice d'ateliers de réalignement énergétique, facilit
 atrice chakradance 06 68 41 46 41 l.charrueau@gmail.com \n& \nAlain
  Désir, musicien, accompagne l'atelier en musique vivante.06 83 20 75
  94 sirealadin@gmail.com\n\nPour plus d'information, aller sur https:/
 /epanews.fr/events/atelier-danse-tournante-d-inspiration-soufie-avec-m
 usique-live
DTSTART;TZID=Europe/Paris:20180325T140000
DTEND;TZID=Europe/Paris:20180325T170000
CATEGORIES:30
LOCATION:Nîmes centre ville
WEBSITE:http://www.tamshaktan.fr
URL:http://www.tamshaktan.fr
CONTACT:0668414641
ORGANIZER:
ATTACH;FMTTYPE="image/jpeg":http://storage.ning.com/topology/rest/1.0/
 file/get/1663713274?profile=original
ATTENDEE;ROLE=REQ-PARTICIPANT;PARTSTAT=ACCEPTED;RSVP=TRUE;CN="Laetitia
  Charrueau":https://epanews.fr/profile/LaetitiaCharrueau
ATTENDEE;ROLE=REQ-PARTICIPANT;PARTSTAT=TENTATIVE;RSVP=TRUE;CN="roselyn
 e cusset":https://epanews.fr/profile/roselynecusset
END:VEVENT
END:VCALENDAR
