BEGIN:VCALENDAR
PRODID:NingEventWidget-v1
VERSION:2.0
METHOD:PUBLISH
BEGIN:VTIMEZONE
TZID:Europe/Paris
X-LIC-LOCATION:Europe/Paris
BEGIN:DAYLIGHT
TZOFFSETFROM:+0100
TZOFFSETTO:+0200
TZNAME:CEST
DTSTART:19700329T020000
RRULE:FREQ=YEARLY;BYMONTH=3;BYDAY=-1SU
END:DAYLIGHT
BEGIN:STANDARD
TZOFFSETFROM:+0200
TZOFFSETTO:+0100
TZNAME:CET
DTSTART:19701025T030000
RRULE:FREQ=YEARLY;BYMONTH=10;BYDAY=-1SU
END:STANDARD
END:VTIMEZONE
BEGIN:VEVENT
UID:2485226:Event:1484886
DTSTAMP:20260421T215220Z
SUMMARY:Atelier \"Danse & Conte\" 17 septembre 2013
DESCRIPTION:-Mardi 17 septembre- \nDe 19h30 à 22h\n\n Ne laisse pas
  passer ta chance !\nQuand l’inspiration est là, ouvre-toi à elle
  !\nLe jaillissement de l’étincelle magique te met sur la voie du 
 changement.\nLe conte de « L’esprit dans la bouteille »\nConte d
 e Grimm\n\nParfois, enfermé dans nos fonctionnements étriqués, nous
  ne voyons pas l'étincelle, l'éclair qui peut nous réveiller, nous 
 éveiller à plus de vie.\nAvec le support de la dynamique du groupe e
 t avec des plongeons dans nos vies respectives; nous irons voir, cherc
 her, débusquer\ncette étincelle magique !\n\nLieu: 10 rue de Bagnole
 t, 75020 Paris\nM° Alexandre Dumas\nCode: B6875\nInscription: isabell
 e.gueudre@gmail.com\n\nTarif:  20 € l'atelier et forfait 3 ateliers
  50 €\n\nPour plus d'information, aller sur https://epanews.fr/event
 s/atelier-danse-conte-17-septembre-2013
DTSTART;TZID=Europe/Paris:20130917T120000
DTEND;TZID=Europe/Paris:20130917T190000
CATEGORIES:75
LOCATION:Paris 20ème
WEBSITE:
URL:
CONTACT:06.13.63.46.16
ORGANIZER;CN=ISADANSE:https://epanews.fr/profile/ISADANSE
ATTACH;FMTTYPE="image/jpeg":
ATTENDEE;ROLE=REQ-PARTICIPANT;PARTSTAT=ACCEPTED;RSVP=TRUE;CN=ISADANSE:
 https://epanews.fr/profile/ISADANSE
END:VEVENT
END:VCALENDAR
