BEGIN:VCALENDAR
PRODID:NingEventWidget-v1
VERSION:2.0
METHOD:PUBLISH
BEGIN:VTIMEZONE
TZID:Europe/Paris
X-LIC-LOCATION:Europe/Paris
BEGIN:DAYLIGHT
TZOFFSETFROM:+0100
TZOFFSETTO:+0200
TZNAME:CEST
DTSTART:19700329T020000
RRULE:FREQ=YEARLY;BYMONTH=3;BYDAY=-1SU
END:DAYLIGHT
BEGIN:STANDARD
TZOFFSETFROM:+0200
TZOFFSETTO:+0100
TZNAME:CET
DTSTART:19701025T030000
RRULE:FREQ=YEARLY;BYMONTH=10;BYDAY=-1SU
END:STANDARD
END:VTIMEZONE
BEGIN:VEVENT
UID:2485226:Event:492731
DTSTAMP:20260423T012516Z
SUMMARY:Atelier Dégustation de Chocolat ! 28/09/11 à 18H30
DESCRIPTION:Mercredi 28 Septembre Dégustation de Chocolat !\n- Mercre
 di 28 Septembre à 18H30 \n \nAprès le succés des premières dégus
 tations de chocolat, Julien Allaire Naturopathe vous invite à venir p
 artager un nouveau moment de douceur !\n \nAu programme de cet atelie
 r :\n \n- Historique du Chocolat\n- Les bienfaits sur l'organisme\n- 
 Puis atelier dégustation, dans les conditions d'une vraie dégustatio
 n ! Venez accompagnés de tous vos sens, ... ils vous seront nécessai
 res !\n \nCoût : 5 euros\nPlaces limitées\nRéservation souhaitée 
             06.98.09.35.85      \n\nPour plus d'infor
 mation, aller sur https://epanews.fr/events/atelier-d-gustation-de-cho
 colat-les-28-09-et-19-10-11
DTSTART;TZID=Europe/Paris:20110928T183000
DTEND;TZID=Europe/Paris:20110928T200000
CATEGORIES:13
LOCATION:Marseille
WEBSITE:http://praticien-naturopathe.com
URL:http://praticien-naturopathe.com
CONTACT:06.98.09.35.85
ORGANIZER;CN="Julien Allaire":https://epanews.fr/profile/JulienAllaire
ATTACH;FMTTYPE="image/jpeg":http://storage.ning.com/topology/rest/1.0/
 file/get/1662453900?profile=original
ATTENDEE;ROLE=REQ-PARTICIPANT;PARTSTAT=ACCEPTED;RSVP=TRUE;CN="Julien A
 llaire":https://epanews.fr/profile/JulienAllaire
ATTENDEE;ROLE=REQ-PARTICIPANT;PARTSTAT=TENTATIVE;RSVP=TRUE;CN=Lucia:ht
 tps://epanews.fr/profile/LUCCIA
END:VEVENT
END:VCALENDAR
