BEGIN:VCALENDAR
PRODID:NingEventWidget-v1
VERSION:2.0
METHOD:PUBLISH
BEGIN:VTIMEZONE
TZID:Europe/Paris
X-LIC-LOCATION:Europe/Paris
BEGIN:DAYLIGHT
TZOFFSETFROM:+0100
TZOFFSETTO:+0200
TZNAME:CEST
DTSTART:19700329T020000
RRULE:FREQ=YEARLY;BYMONTH=3;BYDAY=-1SU
END:DAYLIGHT
BEGIN:STANDARD
TZOFFSETFROM:+0200
TZOFFSETTO:+0100
TZNAME:CET
DTSTART:19701025T030000
RRULE:FREQ=YEARLY;BYMONTH=10;BYDAY=-1SU
END:STANDARD
END:VTIMEZONE
BEGIN:VEVENT
UID:2485226:Event:2900439
DTSTAMP:20260421T204130Z
SUMMARY:Séance découverte : Mouvement Corporel ènifié
DESCRIPTION:Apprenez à vous ressourcer et à vous unifier par votre m
 ouvement Corporel intuitif.  Chaque individu est porteur d'une énergi
 e originelle qui se traduit par un mouvement vibratoire naturel et spo
 ntané dans les différents corps qui nous constituent (physique, éth
 érique, astral, mental...) Notre équilibre, notre bien-être, notre 
 santé, dépendent de la qualité de notre relation à ce mouvement or
 iginel.  Cette pratique sensitive, basée sur l'activation de vos ress
 ources énergétiques par la fluidité du mouvement corporel, vous rap
 proche d'un état méditatif profond où les pensées et les tentions 
 physiques et psychiques laissent place à un équilibre naturel et ser
 ein.  Pour un retour et une relation unifiée à soi.  Atelier d'essai
  GRATUIT  Participation : 20€ l'atelier sans engagement Avec engagem
 ent au trimestre : 60€ les 6 ateliers. Sur inscription : 06 16 90 30
  47\n\nPour plus d'information, aller sur https://epanews.fr/events/at
 elier-d-essai-m-ditation-et-mouvement-corporel
DTSTART;TZID=Europe/Paris:20171208T200000
DTEND;TZID=Europe/Paris:20171208T210000
CATEGORIES:71
LOCATION:lugny
WEBSITE:http://creactiva.free.fr/mouvement.html
URL:http://creactiva.free.fr/mouvement.html
CONTACT:0616903047
ORGANIZER;CN="Damien Richard":https://epanews.fr/profile/DamienRichard
ATTACH;FMTTYPE="image/jpeg":http://storage.ning.com/topology/rest/1.0/
 file/get/1663705664?profile=original
ATTENDEE;ROLE=REQ-PARTICIPANT;PARTSTAT=ACCEPTED;RSVP=TRUE;CN="Damien R
 ichard":https://epanews.fr/profile/DamienRichard
END:VEVENT
END:VCALENDAR
