BEGIN:VCALENDAR
PRODID:NingEventWidget-v1
VERSION:2.0
METHOD:PUBLISH
BEGIN:VTIMEZONE
TZID:Europe/Paris
X-LIC-LOCATION:Europe/Paris
BEGIN:DAYLIGHT
TZOFFSETFROM:+0100
TZOFFSETTO:+0200
TZNAME:CEST
DTSTART:19700329T020000
RRULE:FREQ=YEARLY;BYMONTH=3;BYDAY=-1SU
END:DAYLIGHT
BEGIN:STANDARD
TZOFFSETFROM:+0200
TZOFFSETTO:+0100
TZNAME:CET
DTSTART:19701025T030000
RRULE:FREQ=YEARLY;BYMONTH=10;BYDAY=-1SU
END:STANDARD
END:VTIMEZONE
BEGIN:VEVENT
UID:2485226:Event:2902147
DTSTAMP:20260421T215039Z
SUMMARY:Atelier d' eft
DESCRIPTION:L’EFT, ou Techniques de libération émotionnelle, est u
 ne sorte d’acupuncture émotionnelle, sans aiguille, destinée à vo
 us libérer de vos émotions toxiques, vos comportements négatifs, vo
 s douleurs ou tous autres dérangements dans votre vie.\nCette techniq
 ue prend en considération le physique, le mental et l’émotionnel e
 n même temps. 10 personnes maximum\n\nPour plus d'information, aller 
 sur https://epanews.fr/events/atelier-d-eft
DTSTART;TZID=Europe/Paris:20171125T140000
DTEND;TZID=Europe/Paris:20171125T173000
CATEGORIES:69
LOCATION:Lyon 1er
WEBSITE:
URL:
CONTACT:06 66 66 77 49
ORGANIZER;CN=Marielynn:https://epanews.fr/profile/Marielynn
ATTACH;FMTTYPE="image/jpeg":
ATTENDEE;ROLE=REQ-PARTICIPANT;PARTSTAT=ACCEPTED;RSVP=TRUE;CN=Marielynn
 :https://epanews.fr/profile/Marielynn
END:VEVENT
END:VCALENDAR
