BEGIN:VCALENDAR
PRODID:NingEventWidget-v1
VERSION:2.0
METHOD:PUBLISH
BEGIN:VTIMEZONE
TZID:Europe/Paris
X-LIC-LOCATION:Europe/Paris
BEGIN:DAYLIGHT
TZOFFSETFROM:+0100
TZOFFSETTO:+0200
TZNAME:CEST
DTSTART:19700329T020000
RRULE:FREQ=YEARLY;BYMONTH=3;BYDAY=-1SU
END:DAYLIGHT
BEGIN:STANDARD
TZOFFSETFROM:+0200
TZOFFSETTO:+0100
TZNAME:CET
DTSTART:19701025T030000
RRULE:FREQ=YEARLY;BYMONTH=10;BYDAY=-1SU
END:STANDARD
END:VTIMEZONE
BEGIN:VEVENT
UID:2485226:Event:1494445
DTSTAMP:20260420T040642Z
SUMMARY:Atelier \"Découvrez une autre façon de communiquer avec la M
 éthode ESPERE de Jacques Salomé\"
DESCRIPTION:Cet atelier s'adresse à toute personne qui souhaite appre
 ndre à communiquer de façon bienveillante et améliorer ainsi la qua
 lité de ses relations avec les autres. Il vous permettra de découvri
 r et de vous initier à cet outil simple, accessible et transmissible 
 à tous, qu'est la Méthode ESPERE® de Jacques Salomé. Il s'adresse 
 en particulier à des personnes qui ne connaissent pas la méthode et 
 qui souhaitent la découvrir.\n\nTarif : 25 euros\n\n\nPour plus d'inf
 ormation, aller sur https://epanews.fr/events/atelier-d-couvrez-une-au
 tre-fa-on-de-communiquer-avec-la-m-thode
DTSTART;TZID=Europe/Paris:20130914T180000
DTEND;TZID=Europe/Paris:20130914T200000
CATEGORIES:02
LOCATION:Cabinet Ambre
WEBSITE:http://www.blog-espere.com
URL:http://www.blog-espere.com
CONTACT:06 74 52 25 55
ORGANIZER;CN=Anaïs:https://epanews.fr/profile/Anais
ATTACH;FMTTYPE="image/jpeg":
ATTENDEE;ROLE=REQ-PARTICIPANT;PARTSTAT=ACCEPTED;RSVP=TRUE;CN=Anaïs:ht
 tps://epanews.fr/profile/Anais
END:VEVENT
END:VCALENDAR
