BEGIN:VCALENDAR
PRODID:NingEventWidget-v1
VERSION:2.0
METHOD:PUBLISH
BEGIN:VTIMEZONE
TZID:Europe/Paris
X-LIC-LOCATION:Europe/Paris
BEGIN:DAYLIGHT
TZOFFSETFROM:+0100
TZOFFSETTO:+0200
TZNAME:CEST
DTSTART:19700329T020000
RRULE:FREQ=YEARLY;BYMONTH=3;BYDAY=-1SU
END:DAYLIGHT
BEGIN:STANDARD
TZOFFSETFROM:+0200
TZOFFSETTO:+0100
TZNAME:CET
DTSTART:19701025T030000
RRULE:FREQ=YEARLY;BYMONTH=10;BYDAY=-1SU
END:STANDARD
END:VTIMEZONE
BEGIN:VEVENT
UID:2485226:Event:2427945
DTSTAMP:20260423T111045Z
SUMMARY:atelier dÃ©couverte tantra
DESCRIPTION:\nLâ€™association Lamibonheur vous propose de retrouverÂ F
 ranÃ§oiseÂ et son Â atelier dÃ©couverte tantra :\nÂ \nPeut-Ãªtre avez-
 vous entendu parler du tantra ? Il est souvent liÃ© Ã  la sexualitÃ©, 
 mais quand est-il rÃ©ellement?\nÂ \nVenez gouter Ã  cet art de vivreÂ 
 \nÂ \nPour cela je vous inviteÂ :\nÂ \n\nA entrer dans l'intimitÃ© Ã  
 travers les sens sur le chemin de la conscience.\nA vivre une aventure
  qui va changer votre vie.Â \nÃ  vivre Ã  partir du cÅ“ur, libÃ©rÃ© de
  votre carapace.\nA entrer en relation authentique avec vous, avec lâ€
 ™autre, avec la vie,\n\nÂ Â Â Â Â avec lâ€™amour;\n\nA ressentir la pl
 eine conscience, la prÃ©sence Ã  soi, Ã  l'autreÂ \nA apprivoiser l'Ã©
 nergieÂ en acceptant ce qui est, dans le respect de soi,\n\nÂ Â Â Â  Â
  de lâ€™autre, sans jugement\nÂ \nVous pouvez venir seul(e) ou en coup
 le\nÂ Lâ€™atelierÂ dÃ©butera Â Ã  19H (merci d'arriver un peu avant)\n
 Apportez une tenue souple, tapis, coussin, bandeauÂ \nParticipation 10
 â‚¬ solo, 15â‚¬ duo ou couple\nNombre de places 14 personnes Â (paritÃ
 © homme femme souhaitÃ©e)Â \nAprÃ¨s l'atelier nous prolongerons la ren
 contre avec un repas facultatif autour de plats que chacun aura prÃ©pa
 rÃ© avec amour. La boisson et le couvert sont fournis par lâ€™associat
 ion.\n\nPour plus d'information, aller sur https://epanews.fr/events/a
 telier-d-couverte-tantra
DTSTART;TZID=Europe/Paris:20151017T190000
DTEND;TZID=Europe/Paris:20151017T220000
CATEGORIES:83
LOCATION:toulon ouest
WEBSITE:https://www.google.fr/maps/@43.135749,5.902497,17z
URL:https://www.google.fr/maps/@43.135749,5.902497,17z
CONTACT:0661912800
ORGANIZER;CN="Patrick MALLET":https://epanews.fr/profile/mallet
ATTACH;FMTTYPE="image/jpeg":http://storage.ning.com/topology/rest/1.0/
 file/get/1663212232?profile=original
ATTENDEE;ROLE=REQ-PARTICIPANT;PARTSTAT=ACCEPTED;RSVP=TRUE;CN="Patrick 
 MALLET":https://epanews.fr/profile/mallet
END:VEVENT
END:VCALENDAR
