BEGIN:VCALENDAR
PRODID:NingEventWidget-v1
VERSION:2.0
METHOD:PUBLISH
BEGIN:VTIMEZONE
TZID:Europe/Paris
X-LIC-LOCATION:Europe/Paris
BEGIN:DAYLIGHT
TZOFFSETFROM:+0100
TZOFFSETTO:+0200
TZNAME:CEST
DTSTART:19700329T020000
RRULE:FREQ=YEARLY;BYMONTH=3;BYDAY=-1SU
END:DAYLIGHT
BEGIN:STANDARD
TZOFFSETFROM:+0200
TZOFFSETTO:+0100
TZNAME:CET
DTSTART:19701025T030000
RRULE:FREQ=YEARLY;BYMONTH=10;BYDAY=-1SU
END:STANDARD
END:VTIMEZONE
BEGIN:VEVENT
UID:2485226:Event:1071305
DTSTAMP:20260422T160226Z
SUMMARY:Atelier Découverte Sophrologie Énergiologie janvier 2013
DESCRIPTION:Vendredi 14 décembre 2012\n\n\n\nVous entendez de plus en
  plus souvent parler de Sophrologie, votre médecin vous recommande d
 ’y avoir recours, vous savez qu’elle est de mieux en mieux intégr
 ée dans le parcours médical, mais vous ne savez pas ce que c’est.\
 n\nÉnergiologie : ce mot vous dit vaguement quelque chose et il vous
  attire car vous vous sentez intuitivement concerné(e) par cette nouv
 elle approche thérapeutique. Vous souhaitez en découvrir les bienfai
 ts physiques et psychologiques par l’expérimentation.\n\nL’Espace
  Chrysalide (http://www.espacechrysalide.com) en Partenariat avecSoph
 rologie Bien Être France (http://www.a-sophrologie-bienetre-france.c
 om) vous invite à venir découvrir ces deux méthodes d’une façon 
 ludique dans un contexte convivial lors d’un Atelier Découverte org
 anisé le :\n \n11 janvier de 18h à 21h3019 janvier de 14h à 17h30\
 n\n7 rue des ormeaux78340 LES CLAYES SOUS BOIS\n \nPROGRAMME :\nSophr
 ologie : Posture, lecture du corps, respiration, les 5 systèmes, SDB
  détente (les bases)\nÉnergiologie : Identification des décalages 
 énergétiques du corps grâce au regard intérieur du thérapeute et 
 réharmonisation.\n\nPARTICIPATION : 12 € personne\n\nINSCRIPTION :
  pour faciliter l’organisation, l’inscription préalable est INDI
 SPENSABLE.\n\n* par mail en précisant si vous êtes intéressé(e) pa
 r la sophrologie, l’énergiologie ou les deux !\n\n* par téléphone
  auprès de l’une des animatrices\n\nAnnie : espacechrysalide@yahoo
 .fr ou 06.14.62.35.88 (Énergiologie)\n\nMarie-Odile : contact@a-soph
 rologie-bienetre-france.com ou 06 89 57 53 59 (Sophrologie)\n\nhttp://
 www.elishean.org/?p=19159\n\n\nPour plus d'information, aller sur http
 s://epanews.fr/events/atelier-d-couverte-sophrologie-nergiologie-janvi
 er-2013-1
DTSTART;TZID=Europe/Paris:20130119T140000
DTEND;TZID=Europe/Paris:20130119T173000
CATEGORIES:78
LOCATION:Espace Chrysalide, Les Clayes Sous Bois
WEBSITE:http://espacechrysalide.com/contact.php
URL:http://espacechrysalide.com/contact.php
CONTACT:
ORGANIZER;CN=AirFairy:https://epanews.fr/profile/AirFairy
ATTACH;FMTTYPE="image/jpeg":http://storage.ning.com/topology/rest/1.0/
 file/get/1662719159?profile=original
ATTENDEE;ROLE=REQ-PARTICIPANT;PARTSTAT=ACCEPTED;RSVP=TRUE;CN=AirFairy:
 https://epanews.fr/profile/AirFairy
END:VEVENT
END:VCALENDAR
