BEGIN:VCALENDAR
PRODID:NingEventWidget-v1
VERSION:2.0
METHOD:PUBLISH
BEGIN:VTIMEZONE
TZID:Europe/Paris
X-LIC-LOCATION:Europe/Paris
BEGIN:DAYLIGHT
TZOFFSETFROM:+0100
TZOFFSETTO:+0200
TZNAME:CEST
DTSTART:19700329T020000
RRULE:FREQ=YEARLY;BYMONTH=3;BYDAY=-1SU
END:DAYLIGHT
BEGIN:STANDARD
TZOFFSETFROM:+0200
TZOFFSETTO:+0100
TZNAME:CET
DTSTART:19701025T030000
RRULE:FREQ=YEARLY;BYMONTH=10;BYDAY=-1SU
END:STANDARD
END:VTIMEZONE
BEGIN:VEVENT
UID:2485226:Event:818509
DTSTAMP:20260420T155928Z
SUMMARY:Atelier Découverte shiatsu  namikoshi
DESCRIPTION:Avez-vous déjà entendu parlé de shiatsu  japonnais?\nA
 vez-vous déjà reçu ce soin?\nSavez-vous qu'il s'agit d'un travail s
 ur le système nerveux, avec une pression faite par le pouce, à des e
 ndroits bien définis. Pas de manipulation effectuées\nVous souffrez 
 de quelques blocages physiques qui ne vous permettent pas d'être en p
 leine santé?\nMaux de dos, cervicale, torticolis, sciatique, tendinit
 e, mauvaise circulation énergétique, maux de ventre et de digestion 
 difficile, maux d'estomac...\nSi vous êtes dans ce cas, rendez vous c
 et après midi pour une pratique de soin shiatsu japonais, au centre C
 enthéa du Thoronet. Ce soin sera accessible à tous la séance de 15 
 à 20 minutes par personne, permettra à chacun d' apprécier lui-mêm
 e avec son propre ressenti, le résultat est immédiat pour les points
  dont l'encrage est encore récent, pour les autres un soulagement est
  de toute façon établit.\nLa prise de rendez-vous est conseillé, vo
 us pouvez téléphoner à Chrystel Mouret au 06 08 576 476\nParticipat
 ion : 7€ et adhérents : 5€\n\n\nPour plus d'information, aller su
 r https://epanews.fr/events/atelier-d-couverte-shiatsu-namikoshi-1
DTSTART;TZID=Europe/Paris:20120526T140000
DTEND;TZID=Europe/Paris:20120526T170000
CATEGORIES:83
LOCATION:le thoronet - hameau les camails
WEBSITE:
URL:
CONTACT:
ORGANIZER;CN=CenthéA:https://epanews.fr/profile/GROUPIERREChantal
ATTACH;FMTTYPE="image/jpeg":http://storage.ning.com/topology/rest/1.0/
 file/get/1662607245?profile=original
ATTENDEE;ROLE=REQ-PARTICIPANT;PARTSTAT=ACCEPTED;RSVP=TRUE;CN=CenthéA:
 https://epanews.fr/profile/GROUPIERREChantal
END:VEVENT
END:VCALENDAR
