BEGIN:VCALENDAR
PRODID:NingEventWidget-v1
VERSION:2.0
METHOD:PUBLISH
BEGIN:VTIMEZONE
TZID:Europe/Paris
X-LIC-LOCATION:Europe/Paris
BEGIN:DAYLIGHT
TZOFFSETFROM:+0100
TZOFFSETTO:+0200
TZNAME:CEST
DTSTART:19700329T020000
RRULE:FREQ=YEARLY;BYMONTH=3;BYDAY=-1SU
END:DAYLIGHT
BEGIN:STANDARD
TZOFFSETFROM:+0200
TZOFFSETTO:+0100
TZNAME:CET
DTSTART:19701025T030000
RRULE:FREQ=YEARLY;BYMONTH=10;BYDAY=-1SU
END:STANDARD
END:VTIMEZONE
BEGIN:VEVENT
UID:2485226:Event:1880189
DTSTAMP:20260422T051525Z
SUMMARY:atelier dÃ©couverte shiatsu
DESCRIPTION:Â Â PS: l'association rÃ©colte toujours des bouchons en pl
 astiques Â  pour les handicapÃ©s Merci pour eux.\nEt maintenant nous a
 vons Dominique Â qui nous propose un Â  Atelier dÃ©couverte du shiatsu
  auÂ siÃ¨ge de lâ€™association Â tous les mois: \nATTENTION PLACE LIMI
 TES\nÂ Â \nInitiation au shiatsu â€¦ Ã©tirement des mÃ©ridiens â€¦Â  A
 ssouplissement des articulations â€¦Â  automassages â€¦ RelaxationÂ â€
 ¦ sentir lâ€™Ã©nergieâ€¦et plein dâ€™autres belles choses\nÂ \nChacun 
 repart beaucoup plus en forme quâ€™il ou elle nâ€™est arrivÃ©, car Ã  
 la fin lâ€™Ã©nergie circule dans nos corps et devient Ã  nouveau dispo
 nibleÂ !\nÂ \nThÃ¨meÂ :\nA dÃ©finir avec elle sur place en fonction de
 s attentes\nConditionsÂ :\nLa premiÃ¨re fois participation 5 euros Â p
 our la salleÂ \nLes prochainsÂ :Â 10â‚¬Â  la sÃ©ance Ã  rÃ©gler sur pl
 aceÂ \nL'atelier sera suivi d'un repas pour ceux qui le dÃ©sire Â ou c
 hacun amene un plat de prÃ©fÃ©rence fabriquÃ© par vous Â que l'on part
 agera dans la convivialitÃ© je me charge de la boisson et du couvert.Â
  \nContactsÂ :\nDominique Rittimann\nÂ \nRelaxation - Sophrologie en 1
 994 Massage aux pierres chaudes Shiatsu Ã  lâ€™IFS en 2003 Reiki en 20
 06 Conseil en Ã‰lixirs floraux (fleurs de Bach et autres) MagnÃ©tothÃ©
 rapie (Alma Natural)\nÂ \nTelÂ : 06 98 56 62 97\nÂ \nrappelÂ : les ate
 liers proposÃ©s par lâ€™association LAMIBONHEUR sont des mÃ©thodes de 
 bien Ãªtre qui ne peuventÂ  remplacer votre mÃ©decin traitant ni ses p
 rescriptions.Toute participation Ã  nos activitÃ©s est sous couvert de
  votre assurance responsabilitÃ© civile mÃªme si nous sommes assurÃ©s.
 Â \nÂ \n\nPour plus d'information, aller sur https://epanews.fr/events
 /atelier-d-couverte-shiatsu-5
DTSTART;TZID=Europe/Paris:20140425T190000
DTEND;TZID=Europe/Paris:20140425T203000
CATEGORIES:83
LOCATION:toulon ouest
WEBSITE:
URL:
CONTACT:06 61 91 28 00
ORGANIZER;CN="Patrick MALLET":https://epanews.fr/profile/mallet
ATTACH;FMTTYPE="image/jpeg":http://storage.ning.com/topology/rest/1.0/
 file/get/1662911655?profile=original
ATTENDEE;ROLE=REQ-PARTICIPANT;PARTSTAT=ACCEPTED;RSVP=TRUE;CN="Dominiqu
 e Rittimann":https://epanews.fr/profile/DominiqueR
ATTENDEE;ROLE=REQ-PARTICIPANT;PARTSTAT=ACCEPTED;RSVP=TRUE;CN="Dame Nat
 ure":https://epanews.fr/profile/DameNature
ATTENDEE;ROLE=REQ-PARTICIPANT;PARTSTAT=ACCEPTED;RSVP=TRUE;CN=danielstc
 yrsurmer:https://epanews.fr/profile/danielstcyrsurmer
ATTENDEE;ROLE=REQ-PARTICIPANT;PARTSTAT=ACCEPTED;RSVP=TRUE;CN=LOTUS:htt
 ps://epanews.fr/profile/LOTUS133
ATTENDEE;ROLE=REQ-PARTICIPANT;PARTSTAT=ACCEPTED;RSVP=TRUE;CN="Patrick 
 MALLET":https://epanews.fr/profile/mallet
ATTENDEE;ROLE=REQ-PARTICIPANT;PARTSTAT=TENTATIVE;RSVP=TRUE;CN="THERAPY
  BIEN ETRE":https://epanews.fr/profile/cristalviolet
END:VEVENT
END:VCALENDAR
