BEGIN:VCALENDAR
PRODID:NingEventWidget-v1
VERSION:2.0
METHOD:PUBLISH
BEGIN:VTIMEZONE
TZID:Europe/Paris
X-LIC-LOCATION:Europe/Paris
BEGIN:DAYLIGHT
TZOFFSETFROM:+0100
TZOFFSETTO:+0200
TZNAME:CEST
DTSTART:19700329T020000
RRULE:FREQ=YEARLY;BYMONTH=3;BYDAY=-1SU
END:DAYLIGHT
BEGIN:STANDARD
TZOFFSETFROM:+0200
TZOFFSETTO:+0100
TZNAME:CET
DTSTART:19701025T030000
RRULE:FREQ=YEARLY;BYMONTH=10;BYDAY=-1SU
END:STANDARD
END:VTIMEZONE
BEGIN:VEVENT
UID:2485226:Event:771196
DTSTAMP:20260423T190834Z
SUMMARY:Modification demandée
DESCRIPTION:Proposé par Marie Josée Ruby Maitre Reiki 3° degré pra
 ticien\n \n* découvrir le Reiki à partir de texte reprenant l’his
 toire du Reiki,\n* ressentir l’énergie qui est en nous et à l’ut
 iliser,\n* connaitre les différentes positions des mains sur son corp
 s pour réconforter les maux du quotidien en auto-traitement\n (2 gro
 upes de 1h)\n \nParticipation : 10€ et adhérents : 7€\nUn livret
  de suivi sera proposé à 3€  (cout des copies)\n\nPour plus d'info
 rmation, aller sur https://epanews.fr/events/atelier-d-couverte-reiki
DTSTART;TZID=Europe/Paris:20120421T140000
DTEND;TZID=Europe/Paris:20120421T170000
CATEGORIES:83
LOCATION:le thoronet
WEBSITE:
URL:
CONTACT:
ORGANIZER;CN=CenthéA:https://epanews.fr/profile/GROUPIERREChantal
ATTACH;FMTTYPE="image/jpeg":http://storage.ning.com/topology/rest/1.0/
 file/get/1662594585?profile=original
ATTENDEE;ROLE=REQ-PARTICIPANT;PARTSTAT=ACCEPTED;RSVP=TRUE;CN=CenthéA:
 https://epanews.fr/profile/GROUPIERREChantal
END:VEVENT
END:VCALENDAR
