BEGIN:VCALENDAR
PRODID:NingEventWidget-v1
VERSION:2.0
METHOD:PUBLISH
BEGIN:VTIMEZONE
TZID:Europe/Paris
X-LIC-LOCATION:Europe/Paris
BEGIN:DAYLIGHT
TZOFFSETFROM:+0100
TZOFFSETTO:+0200
TZNAME:CEST
DTSTART:19700329T020000
RRULE:FREQ=YEARLY;BYMONTH=3;BYDAY=-1SU
END:DAYLIGHT
BEGIN:STANDARD
TZOFFSETFROM:+0200
TZOFFSETTO:+0100
TZNAME:CET
DTSTART:19701025T030000
RRULE:FREQ=YEARLY;BYMONTH=10;BYDAY=-1SU
END:STANDARD
END:VTIMEZONE
BEGIN:VEVENT
UID:2485226:Event:1648880
DTSTAMP:20260423T203214Z
SUMMARY:Atelier découverte reiki
DESCRIPTION:Le Reiki est « une technique holistique d’harmonisation
  énergétique qui permet de relier  notre propre énergie à l’én
 ergie universelle. Le praticien canalise et transmet  l’énergie un
 iverselle au patient pour activer les processus naturels d'autoguéris
 on, de développement personnel et d’éveil de conscience.\n\nl'obje
 ctif de cet atelier découverte, conduit par un  maitre reiki,  comp
 rend une information détaillée sur ce qu'est le reiki, suivie d'un s
 oin afin de vous faire découvrir cette merveilleuse thérapie multidi
 mentionnelle qui intervient tant sur le plan physique, psyqhique que s
 pirituel.\n\nParticipation : 15 euros  (information + soin)\n\nPour p
 lus d'information, aller sur https://epanews.fr/events/atelier-d-couve
 rte-reiki-1
DTSTART;TZID=Europe/Paris:20131126T143000
DTEND;TZID=Europe/Paris:20131126T170000
CATEGORIES:56
LOCATION:Ploemel
WEBSITE:http://sites.google.com/site/lesouffledumenhir/
URL:http://sites.google.com/site/lesouffledumenhir/
CONTACT:07 85 40 50 49
ORGANIZER;CN="bracchi martine":https://epanews.fr/profile/bracchimarti
 ne
ATTACH;FMTTYPE="image/jpeg":http://storage.ning.com/topology/rest/1.0/
 file/get/1662974858?profile=original
ATTENDEE;ROLE=REQ-PARTICIPANT;PARTSTAT=ACCEPTED;RSVP=TRUE;CN="bracchi 
 martine":https://epanews.fr/profile/bracchimartine
END:VEVENT
END:VCALENDAR
