BEGIN:VCALENDAR
PRODID:NingEventWidget-v1
VERSION:2.0
METHOD:PUBLISH
BEGIN:VTIMEZONE
TZID:Europe/Paris
X-LIC-LOCATION:Europe/Paris
BEGIN:DAYLIGHT
TZOFFSETFROM:+0100
TZOFFSETTO:+0200
TZNAME:CEST
DTSTART:19700329T020000
RRULE:FREQ=YEARLY;BYMONTH=3;BYDAY=-1SU
END:DAYLIGHT
BEGIN:STANDARD
TZOFFSETFROM:+0200
TZOFFSETTO:+0100
TZNAME:CET
DTSTART:19701025T030000
RRULE:FREQ=YEARLY;BYMONTH=10;BYDAY=-1SU
END:STANDARD
END:VTIMEZONE
BEGIN:VEVENT
UID:2485226:Event:491512
DTSTAMP:20260422T211453Z
SUMMARY:Atelier découverte - MASSAGE Corps Émotion Parole - Marseill
 e
DESCRIPTION:Une journée dédiée au Massage Corps • Émotion • Pa
 role.\n5 ateliers de 2 heures accessibles à tous.\nTarif 35 € ramen
 é à 20 €.\nNombre de places limité.\nInformations et inscriptions
  :\nvoir le site - rubrique \"De la découverte à l'apprentissage\".\
 nwww.les13portes.com\n\nPour plus d'information, aller sur https://epa
 news.fr/events/atelier-d-couverte-massage-corps-motion-parole-marseill
 e
DTSTART;TZID=Europe/Paris:20110918T000000
DTEND;TZID=Europe/Paris:20110918T235900
CATEGORIES:13
LOCATION:MARSEILLE
WEBSITE:http://www.les13portes.com
URL:http://www.les13portes.com
CONTACT:0611892034
ORGANIZER;CN=VERGER:https://epanews.fr/profile/VERGER
ATTACH;FMTTYPE="image/jpeg":http://storage.ning.com/topology/rest/1.0/
 file/get/1662454172?profile=original
ATTENDEE;ROLE=REQ-PARTICIPANT;PARTSTAT=ACCEPTED;RSVP=TRUE;CN=VERGER:ht
 tps://epanews.fr/profile/VERGER
END:VEVENT
END:VCALENDAR
