BEGIN:VCALENDAR
PRODID:NingEventWidget-v1
VERSION:2.0
METHOD:PUBLISH
BEGIN:VTIMEZONE
TZID:Europe/Paris
X-LIC-LOCATION:Europe/Paris
BEGIN:DAYLIGHT
TZOFFSETFROM:+0100
TZOFFSETTO:+0200
TZNAME:CEST
DTSTART:19700329T020000
RRULE:FREQ=YEARLY;BYMONTH=3;BYDAY=-1SU
END:DAYLIGHT
BEGIN:STANDARD
TZOFFSETFROM:+0200
TZOFFSETTO:+0100
TZNAME:CET
DTSTART:19701025T030000
RRULE:FREQ=YEARLY;BYMONTH=10;BYDAY=-1SU
END:STANDARD
END:VTIMEZONE
BEGIN:VEVENT
UID:2485226:Event:484302
DTSTAMP:20260422T094118Z
SUMMARY:Atelier \"découverte\" Méthode de libération des cuirasses
DESCRIPTION:Découverte de la M.L.C : méthode de Marie Lise Labonté 
 (voir site) le jeudi 22 septembre à  18h à Toulon.\nDojo Varois :Ru
 e Colonel Fabien\nDurée 1h30 environ ,Séance gratuite\nInscriptions 
 auprès de l'association ART'peggione\n06 15 71 94 90\n\nPour plus d'i
 nformation, aller sur https://epanews.fr/events/atelier-d-couverte-m-t
 hode-de-lib-ration-des-cuirasses
DTSTART;TZID=Europe/Paris:20110922T180000
DTEND;TZID=Europe/Paris:20110922T193000
CATEGORIES:83
LOCATION:TOULON
WEBSITE:
URL:
CONTACT:06 15 71 94 90
ORGANIZER:Sylvie Lefaucheux : Association ART'peggione
ATTACH;FMTTYPE="image/jpeg":http://storage.ning.com/topology/rest/1.0/
 file/get/1662449274?profile=original
ATTENDEE;ROLE=REQ-PARTICIPANT;PARTSTAT=ACCEPTED;RSVP=TRUE;CN="Sylvie L
 efaucheux":https://epanews.fr/profile/MLCcMarieLiseLabonte
END:VEVENT
END:VCALENDAR
