BEGIN:VCALENDAR
PRODID:NingEventWidget-v1
VERSION:2.0
METHOD:PUBLISH
BEGIN:VTIMEZONE
TZID:Europe/Paris
X-LIC-LOCATION:Europe/Paris
BEGIN:DAYLIGHT
TZOFFSETFROM:+0100
TZOFFSETTO:+0200
TZNAME:CEST
DTSTART:19700329T020000
RRULE:FREQ=YEARLY;BYMONTH=3;BYDAY=-1SU
END:DAYLIGHT
BEGIN:STANDARD
TZOFFSETFROM:+0200
TZOFFSETTO:+0100
TZNAME:CET
DTSTART:19701025T030000
RRULE:FREQ=YEARLY;BYMONTH=10;BYDAY=-1SU
END:STANDARD
END:VTIMEZONE
BEGIN:VEVENT
UID:2485226:Event:1780241
DTSTAMP:20260422T191217Z
SUMMARY:Atelier Découverte Les élixirs minéraux
DESCRIPTION:Venez découvrir par vous même et expérimenter les élix
 irs minéraux !\nQu'est ce que c'est? A quoi ça sert? Comment ça fon
 ctionne ?\nLes utilisations possibles sur les différents corps physiq
 ue, émotionnel, mental et spirituel !\n\nPour plus d'information, all
 er sur https://epanews.fr/events/atelier-d-couverte-les-lixirs-min-rau
 x
DTSTART;TZID=Europe/Paris:20140306T140000
DTEND;TZID=Europe/Paris:20140306T163000
CATEGORIES:34
LOCATION:Montpellier
WEBSITE:http://www.sourcedubonheur.fr
URL:http://www.sourcedubonheur.fr
CONTACT:0411751685
ORGANIZER;CN="Feng Shui Energie":https://epanews.fr/profile/FengShuiEn
 ergie
ATTACH;FMTTYPE="image/jpeg":http://storage.ning.com/topology/rest/1.0/
 file/get/1663059980?profile=original
ATTENDEE;ROLE=REQ-PARTICIPANT;PARTSTAT=ACCEPTED;RSVP=TRUE;CN="Feng Shu
 i Energie":https://epanews.fr/profile/FengShuiEnergie
END:VEVENT
END:VCALENDAR
