BEGIN:VCALENDAR
PRODID:NingEventWidget-v1
VERSION:2.0
METHOD:PUBLISH
BEGIN:VTIMEZONE
TZID:Europe/Paris
X-LIC-LOCATION:Europe/Paris
BEGIN:DAYLIGHT
TZOFFSETFROM:+0100
TZOFFSETTO:+0200
TZNAME:CEST
DTSTART:19700329T020000
RRULE:FREQ=YEARLY;BYMONTH=3;BYDAY=-1SU
END:DAYLIGHT
BEGIN:STANDARD
TZOFFSETFROM:+0200
TZOFFSETTO:+0100
TZNAME:CET
DTSTART:19701025T030000
RRULE:FREQ=YEARLY;BYMONTH=10;BYDAY=-1SU
END:STANDARD
END:VTIMEZONE
BEGIN:VEVENT
UID:2485226:Event:746583
DTSTAMP:20260423T185149Z
SUMMARY:Atelier DÃ©couverte = Le Reiki
DESCRIPTION:Â«Â Cette merveilleuse Ã©nergie dâ€™amour qui mâ€™a guidÃ©
 e vers elle, se nomme Â«Â ReikiÂ Â».\nTous les jours, jâ€™apprÃ©cie se
 s bienfaits tant sur le plan physique que spirituel.\nSon message dâ€™
 amour mâ€™amÃ¨ne Ã  la faire connaitre, afin que chacune et chacun pui
 sse Ã  son tour ressentir cette merveilleuse Ã©nergie.\nLâ€™atelier dÃ
 ©couverte a pour but de ressentir lâ€™Ã©nergie qui vie en chacun dâ€™e
 ntre nous et dâ€™apprendre Ã  lâ€™utiliser pour amÃ©liorer son Ã©tat p
 hysique au quotidien.\nLes diffÃ©rentes postions des mains sur son cor
 ps seront montrÃ©es et commentÃ©es.\nCet atelier est juste une dÃ©couv
 erte, qui peut-Ãªtre vous guidera vers lâ€™initiation.Â Â»\nÂ \n\nPour
  plus d'information, aller sur https://epanews.fr/events/atelier-d-cou
 verte-le-reiki
DTSTART;TZID=Europe/Paris:20120421T020000
DTEND;TZID=Europe/Paris:20120421T050000
CATEGORIES:83
LOCATION:Toulon
WEBSITE:http://energetique-et-bien-etre.fr
URL:http://energetique-et-bien-etre.fr
CONTACT:0617577641
ORGANIZER;CN="RUBY Marie-JosÃ©":https://epanews.fr/profile/RUBYMarieJo
 se
ATTACH;FMTTYPE="image/jpeg":
ATTENDEE;ROLE=REQ-PARTICIPANT;PARTSTAT=ACCEPTED;RSVP=TRUE;CN="RUBY Mar
 ie-JosÃ©":https://epanews.fr/profile/RUBYMarieJose
END:VEVENT
END:VCALENDAR
