BEGIN:VCALENDAR
PRODID:NingEventWidget-v1
VERSION:2.0
METHOD:PUBLISH
BEGIN:VTIMEZONE
TZID:Europe/Paris
X-LIC-LOCATION:Europe/Paris
BEGIN:DAYLIGHT
TZOFFSETFROM:+0100
TZOFFSETTO:+0200
TZNAME:CEST
DTSTART:19700329T020000
RRULE:FREQ=YEARLY;BYMONTH=3;BYDAY=-1SU
END:DAYLIGHT
BEGIN:STANDARD
TZOFFSETFROM:+0200
TZOFFSETTO:+0100
TZNAME:CET
DTSTART:19701025T030000
RRULE:FREQ=YEARLY;BYMONTH=10;BYDAY=-1SU
END:STANDARD
END:VTIMEZONE
BEGIN:VEVENT
UID:2485226:Event:1816371
DTSTAMP:20260421T234555Z
SUMMARY:Atelier découverte EFT
DESCRIPTION:Un atelier pour découvrir l'EFT, pour tapoter sur nos cro
 yances sur l'argent, tout ce qui nous empêche de se sentir libéré d
 es peurs liées à l'argent\nQue représente l'argent dans notre histo
 ire ?\nVenez tapotez et vous libérer de ces peurs\n\nPour plus d'info
 rmation, aller sur https://epanews.fr/events/atelier-d-couverte-eft
DTSTART;TZID=Europe/Paris:20140308T103000
DTEND;TZID=Europe/Paris:20140308T120000
CATEGORIES:64
LOCATION:Biarritz
WEBSITE:
URL:
CONTACT:
ORGANIZER;CN="Myriam Mercier":https://epanews.fr/profile/argia
ATTACH;FMTTYPE="image/jpeg":
ATTENDEE;ROLE=REQ-PARTICIPANT;PARTSTAT=ACCEPTED;RSVP=TRUE;CN="Myriam M
 ercier":https://epanews.fr/profile/argia
END:VEVENT
END:VCALENDAR
