BEGIN:VCALENDAR
PRODID:NingEventWidget-v1
VERSION:2.0
METHOD:PUBLISH
BEGIN:VTIMEZONE
TZID:Europe/Paris
X-LIC-LOCATION:Europe/Paris
BEGIN:DAYLIGHT
TZOFFSETFROM:+0100
TZOFFSETTO:+0200
TZNAME:CEST
DTSTART:19700329T020000
RRULE:FREQ=YEARLY;BYMONTH=3;BYDAY=-1SU
END:DAYLIGHT
BEGIN:STANDARD
TZOFFSETFROM:+0200
TZOFFSETTO:+0100
TZNAME:CET
DTSTART:19701025T030000
RRULE:FREQ=YEARLY;BYMONTH=10;BYDAY=-1SU
END:STANDARD
END:VTIMEZONE
BEGIN:VEVENT
UID:2485226:Event:2280153
DTSTAMP:20260423T054505Z
SUMMARY:Atelier dÃ©couverte du Pendule
DESCRIPTION:Cet atelier va vous permettre de dÃ©couvrir le pendule de 
 radiesthÃ©sie, la faÃ§on de la tenir, Ã  quoi Ã§Ã  sert... Qu'il soit 
 en bois, en mÃ©tal ou en pierre, le pendule permet d'Ã©mettre et de re
 cevoir, mais surtout, de rÃ©pondre Ã  vos questions simples et prÃ©cis
 es par \"oui\" ou \"non\". L'utilisation d'un pendule est accessible Ã
   tous, Ã  la seule condition de lÃ¢cher le mental et de laisser faire
 . Rendez-vous le SAMEDI 11 AVRIL de 14h Ã  17h Ã  La Villa du Yoga (75
  avenue Gambetta - La Seyne sur Mer). Vous trouverez Ã©galement des pe
 ndules en vente pour ceux qui le dÃ©sirent (entrÃ©e libre) Participati
 on : 12 â‚¬ pendule en bois fourni... Merci de vous inscrire au 06 71 
 19 27 88  ou directement Ã  lavilladuyoga@gmail.com\n\nPour plus d'inf
 ormation, aller sur https://epanews.fr/events/atelier-d-couverte-du-pe
 ndule
DTSTART;TZID=Europe/Paris:20150411T020000
DTEND;TZID=Europe/Paris:20150411T170000
CATEGORIES:83
LOCATION:La Villa du Yoga
WEBSITE:http://www.druide-jeanmichel.net
URL:http://www.druide-jeanmichel.net
CONTACT:0671192788
ORGANIZER;CN=meyer:https://epanews.fr/profile/meyer
ATTACH;FMTTYPE="image/jpeg":
ATTENDEE;ROLE=REQ-PARTICIPANT;PARTSTAT=ACCEPTED;RSVP=TRUE;CN=meyer:htt
 ps://epanews.fr/profile/meyer
END:VEVENT
END:VCALENDAR
