BEGIN:VCALENDAR
PRODID:NingEventWidget-v1
VERSION:2.0
METHOD:PUBLISH
BEGIN:VTIMEZONE
TZID:Europe/Paris
X-LIC-LOCATION:Europe/Paris
BEGIN:DAYLIGHT
TZOFFSETFROM:+0100
TZOFFSETTO:+0200
TZNAME:CEST
DTSTART:19700329T020000
RRULE:FREQ=YEARLY;BYMONTH=3;BYDAY=-1SU
END:DAYLIGHT
BEGIN:STANDARD
TZOFFSETFROM:+0200
TZOFFSETTO:+0100
TZNAME:CET
DTSTART:19701025T030000
RRULE:FREQ=YEARLY;BYMONTH=10;BYDAY=-1SU
END:STANDARD
END:VTIMEZONE
BEGIN:VEVENT
UID:2485226:Event:1887253
DTSTAMP:20260421T184202Z
SUMMARY:Atelier découverte de MLC©
DESCRIPTION:Méthode de Libération des Cuirasses de Marie Lise Labont
 é Présentation de la Méthode45 minutes de mouvementTemps de partage
  et de questionsParticipation 5 eurosSur inscription\nhttps://www.face
 book.com/marie.isambert.equilibretevie\nhttp://www.equilibre-et-vie.co
 m/default.html\n\n\nPour plus d'information, aller sur https://epanews
 .fr/events/atelier-d-couverte-de-mlc-1
DTSTART;TZID=Europe/Paris:20140617T190000
DTEND;TZID=Europe/Paris:20140617T201500
CATEGORIES:44
LOCATION:Voyage à Fleur de Peau
WEBSITE:http://www.voyageafleursdepeau.com/Actualites.aspx
URL:http://www.voyageafleursdepeau.com/Actualites.aspx
CONTACT:0687124384
ORGANIZER;CN="Marie Isambert":https://epanews.fr/profile/MarieIsambert
ATTACH;FMTTYPE="image/jpeg":http://storage.ning.com/topology/rest/1.0/
 file/get/1663119581?profile=original
ATTENDEE;ROLE=REQ-PARTICIPANT;PARTSTAT=ACCEPTED;RSVP=TRUE;CN="Marie Is
 ambert":https://epanews.fr/profile/MarieIsambert
END:VEVENT
END:VCALENDAR
