BEGIN:VCALENDAR
PRODID:NingEventWidget-v1
VERSION:2.0
METHOD:PUBLISH
BEGIN:VTIMEZONE
TZID:Europe/Paris
X-LIC-LOCATION:Europe/Paris
BEGIN:DAYLIGHT
TZOFFSETFROM:+0100
TZOFFSETTO:+0200
TZNAME:CEST
DTSTART:19700329T020000
RRULE:FREQ=YEARLY;BYMONTH=3;BYDAY=-1SU
END:DAYLIGHT
BEGIN:STANDARD
TZOFFSETFROM:+0200
TZOFFSETTO:+0100
TZNAME:CET
DTSTART:19701025T030000
RRULE:FREQ=YEARLY;BYMONTH=10;BYDAY=-1SU
END:STANDARD
END:VTIMEZONE
BEGIN:VEVENT
UID:2485226:Event:2875017
DTSTAMP:20260422T013455Z
SUMMARY:Atelier découverte de la Nouvelle Lune Connaissance et intég
 ration par les énergies cristallines
DESCRIPTION:Anne-Laure Leroux Agapé & l'association Lumière de l'êt
 re organisent un atelier découverte sur le le message des astres et 
 ce qu’il nous propose actuellement pour notre évolution personnelle
 , ainsi qu’une expérimentation des bienfaits des énergies des bols
  de cristal : dissolution des points de blocage, augmentation de notr
 e taux vibratoire.\n\nPour plus d'information, aller sur https://epane
 ws.fr/events/atelier-d-couverte-de-la-nouvelle-lune-connaissance-et-in
 t-1
DTSTART;TZID=Europe/Paris:20170927T190000
DTEND;TZID=Europe/Paris:20170927T203000
CATEGORIES:83
LOCATION:La chocolaterie de Sanary
WEBSITE:https://www.google.fr/maps/place/La+Chocolaterie+de+Sanary/@43
 .1201716,5.8049999,15z/data=!4m5!3m4!1s0x0:0xad218f2808b829f6!8m2!3d43
 .1201716!4d5.8049999
URL:https://www.google.fr/maps/place/La+Chocolaterie+de+Sanary/@43.120
 1716,5.8049999,15z/data=!4m5!3m4!1s0x0:0xad218f2808b829f6!8m2!3d43.120
 1716!4d5.8049999
CONTACT:06 62 11 58 69
ORGANIZER:Lumière de l'Etre
ATTACH;FMTTYPE="image/jpeg":http://storage.ning.com/topology/rest/1.0/
 file/get/1663690450?profile=original
ATTENDEE;ROLE=REQ-PARTICIPANT;PARTSTAT=ACCEPTED;RSVP=TRUE;CN=Maud:http
 s://epanews.fr/profile/Maud
END:VEVENT
END:VCALENDAR
