BEGIN:VCALENDAR
PRODID:NingEventWidget-v1
VERSION:2.0
METHOD:PUBLISH
BEGIN:VTIMEZONE
TZID:Europe/Paris
X-LIC-LOCATION:Europe/Paris
BEGIN:DAYLIGHT
TZOFFSETFROM:+0100
TZOFFSETTO:+0200
TZNAME:CEST
DTSTART:19700329T020000
RRULE:FREQ=YEARLY;BYMONTH=3;BYDAY=-1SU
END:DAYLIGHT
BEGIN:STANDARD
TZOFFSETFROM:+0200
TZOFFSETTO:+0100
TZNAME:CET
DTSTART:19701025T030000
RRULE:FREQ=YEARLY;BYMONTH=10;BYDAY=-1SU
END:STANDARD
END:VTIMEZONE
BEGIN:VEVENT
UID:2485226:Event:2334448
DTSTAMP:20260422T163948Z
SUMMARY:Argile et Tarot de Marseille
DESCRIPTION:Atelier - Argile et Tarot de Marseille\nOn y participe ra
 ssemblé autour d'une table comme pour partager un bon repas; \nPour 
 ceux qui le souhaitent l'atelier est complété d'un tirage individuel
  du Tarot de Marseille.\nOuvert à tous sur inscription au 06 50 79 20
  65\nPour toute autre demande de créneau en dehors de ceux-ci, nous c
 ontacter.\nAu plaisir de partager avec vous...\n\nPour plus d'informat
 ion, aller sur https://epanews.fr/events/atelier-d-argile-et-tarot-de-
 marseille
DTSTART;TZID=Europe/Paris:20150530T163000
DTEND;TZID=Europe/Paris:20150530T183000
CATEGORIES:75010, paris
LOCATION:Bar La Sardine
WEBSITE:
URL:
CONTACT:0650792065
ORGANIZER;CN=editho:https://epanews.fr/profile/editho
ATTACH;FMTTYPE="image/jpeg":
ATTENDEE;ROLE=REQ-PARTICIPANT;PARTSTAT=ACCEPTED;RSVP=TRUE;CN=editho:ht
 tps://epanews.fr/profile/editho
END:VEVENT
END:VCALENDAR
