BEGIN:VCALENDAR
PRODID:NingEventWidget-v1
VERSION:2.0
METHOD:PUBLISH
BEGIN:VTIMEZONE
TZID:Europe/Paris
X-LIC-LOCATION:Europe/Paris
BEGIN:DAYLIGHT
TZOFFSETFROM:+0100
TZOFFSETTO:+0200
TZNAME:CEST
DTSTART:19700329T020000
RRULE:FREQ=YEARLY;BYMONTH=3;BYDAY=-1SU
END:DAYLIGHT
BEGIN:STANDARD
TZOFFSETFROM:+0200
TZOFFSETTO:+0100
TZNAME:CET
DTSTART:19701025T030000
RRULE:FREQ=YEARLY;BYMONTH=10;BYDAY=-1SU
END:STANDARD
END:VTIMEZONE
BEGIN:VEVENT
UID:2485226:Event:2337609
DTSTAMP:20260423T203808Z
SUMMARY:atelier cuisine sans gluten et sans Lactose
DESCRIPTION:L’association Lamibonheur vous propose un nouvel atelier
  au siège de l’association  sur la cuisine sans gluten et sans lac
 tose avec :\n                            
             Monique\n\n \nEnvie de vous amuser  main dans
  la main avec Monique pour découvrir une cuisine sans gluten et sans 
 Lactose.\nEnvie d’apprendre ou de vous perfectionner ?\nEnvie de vo
 us faire plaisir en cuisinant aux côtés d’une personne qui a la co
 nnaissance ?\nEnvie de déguster de la nourriture saine fabriquée pa
 r vous avec amour  ?\n \nAlors venez participez à ce moment de plai
 sir le samedi 30 juin 2015\nDémarrage à 15 heures on poursuivra le 
 soir avec le repas de ce que vous aurez préparé.\nAttention places l
 imités à 10 personnes\nTous les ingrédients sont  fournis par l’
 association  boissons comprises.\nMatériel : Si vous avez un tablie
 r et un bon  couteau de cuisine c’est bien \nPrix 10€ pour les i
 ngrédients, boissons et la salle.\nPetit rappel : les ateliers propo
 sés par l’association Lamibonheur sont des méthodes de bien être 
 qui ne peuvent  remplacer votre médecin traitant ni ses prescription
 s. Toute participation à cette activité est sous couvert de votre as
 surance responsabilité Civile même si nous sommes assurés pour les 
 adhérents à jours de la cotisation.  \n \n------------------------
 ---------------------------------------------------\n\nPour plus d'inf
 ormation, aller sur https://epanews.fr/events/atelier-cuisine-sans-glu
 ten-et-sans-lactose
DTSTART;TZID=Europe/Paris:20150627T150000
DTEND;TZID=Europe/Paris:20150627T230000
CATEGORIES:83, 13
LOCATION:toulon ouest
WEBSITE:https://www.google.fr/maps/@43.135749,5.902497,17z
URL:https://www.google.fr/maps/@43.135749,5.902497,17z
CONTACT:0661912800
ORGANIZER;CN="Patrick MALLET":https://epanews.fr/profile/mallet
ATTACH;FMTTYPE="image/jpeg":http://storage.ning.com/topology/rest/1.0/
 file/get/1663407428?profile=original
ATTENDEE;ROLE=REQ-PARTICIPANT;PARTSTAT=ACCEPTED;RSVP=TRUE;CN=Adeline:h
 ttps://epanews.fr/profile/Adeline373
ATTENDEE;ROLE=REQ-PARTICIPANT;PARTSTAT=ACCEPTED;RSVP=TRUE;CN="Patrick 
 MALLET":https://epanews.fr/profile/mallet
END:VEVENT
END:VCALENDAR
