BEGIN:VCALENDAR
PRODID:NingEventWidget-v1
VERSION:2.0
METHOD:PUBLISH
BEGIN:VTIMEZONE
TZID:Europe/Paris
X-LIC-LOCATION:Europe/Paris
BEGIN:DAYLIGHT
TZOFFSETFROM:+0100
TZOFFSETTO:+0200
TZNAME:CEST
DTSTART:19700329T020000
RRULE:FREQ=YEARLY;BYMONTH=3;BYDAY=-1SU
END:DAYLIGHT
BEGIN:STANDARD
TZOFFSETFROM:+0200
TZOFFSETTO:+0100
TZNAME:CET
DTSTART:19701025T030000
RRULE:FREQ=YEARLY;BYMONTH=10;BYDAY=-1SU
END:STANDARD
END:VTIMEZONE
BEGIN:VEVENT
UID:2485226:Event:2461843
DTSTAMP:20260421T235208Z
SUMMARY:Atelier crÃ©atif sur les Ã©motions
DESCRIPTION:L'atelier LA VAGUE DES Ã‰MOTIONS propose de visiter l'univ
 ers des Ã©motions par le jeu du dialogue.\nUne maniÃ¨re ludique et crÃ
 ©ative d'aborder le sujet des Ã©motions.Les participants libÃ¨rent la 
 parole et lui donnent un sens crÃ©atif Ã  travers le ressenti et l'exp
 ression des Ã©motions, l'Ã©coute et le partageÂ dans les mondes du rÃ©
 el et de l'imaginaire.Â \nL'atelier ne nÃ©cessite aucune expÃ©rience.Â
  La spontanÃ©itÃ© et la personnalitÃ© des styles sont prÃ©servÃ©es et 
 respectÃ©es.Â \n\n---------\n2 fois par mois sur Paris dans un cadre c
 onvivial adaptÃ© au plaisir des sens\nPetit groupe - sur inscriptionÂ 
 \nToutes les informations surÂ http://www.lavaguedevie.net/la-vague-de
 s-eacutemotions.html\n\n\nPour plus d'information, aller sur https://e
 panews.fr/events/atelier-cr-atif-sur-les-motions
DTSTART;TZID=Europe/Paris:20151104T190000
DTEND;TZID=Europe/Paris:20151104T210000
CATEGORIES:75
LOCATION:Paris 3e
WEBSITE:
URL:
CONTACT:0683252454
ORGANIZER;CN=shamandra:https://epanews.fr/profile/shamandra
ATTACH;FMTTYPE="image/jpeg":http://storage.ning.com/topology/rest/1.0/
 file/get/1663475855?profile=original
ATTENDEE;ROLE=REQ-PARTICIPANT;PARTSTAT=ACCEPTED;RSVP=TRUE;CN=shamandra
 :https://epanews.fr/profile/shamandra
END:VEVENT
END:VCALENDAR
