BEGIN:VCALENDAR
PRODID:NingEventWidget-v1
VERSION:2.0
METHOD:PUBLISH
BEGIN:VTIMEZONE
TZID:Europe/Paris
X-LIC-LOCATION:Europe/Paris
BEGIN:DAYLIGHT
TZOFFSETFROM:+0100
TZOFFSETTO:+0200
TZNAME:CEST
DTSTART:19700329T020000
RRULE:FREQ=YEARLY;BYMONTH=3;BYDAY=-1SU
END:DAYLIGHT
BEGIN:STANDARD
TZOFFSETFROM:+0200
TZOFFSETTO:+0100
TZNAME:CET
DTSTART:19701025T030000
RRULE:FREQ=YEARLY;BYMONTH=10;BYDAY=-1SU
END:STANDARD
END:VTIMEZONE
BEGIN:VEVENT
UID:2485226:Event:2746436
DTSTAMP:20260424T213459Z
SUMMARY:atelier crÃ©atif adulte - guirlande lumineuse
DESCRIPTION:Atelier crÃ©atif adultes - Home dÃ©co : guirlande lumineus
 e de NoÃ«l par Mes petits ateliers Narbonne -Â \nLundi 28 novembre 201
 6 de 9h00 Ã  11h00\n\nL'atelier dure 2 heures, tout le matÃ©riel est c
 ompris dans le tarif.Â \nÂ Dans une ambiance dÃ©contractÃ©e, vous appr
 enez Ã  rÃ©aliser votre dÃ©coration pour les fÃªtes de fin d'annÃ©e et
  vous repartez avec votre propre crÃ©ation.Â \nÂ Groupe Ã  partir de 4
  personnes et 12 personnes maxiÂ \n\nTarif :\n25â‚¬ non adhÃ©rent\n20â
 ‚¬ adhÃ©rent\n\nInscriptions : NadÃ¨ge 06.23.01.35.96 ou larcencieldup
 artage@sfr.fr\n\nL'arc en ciel du partage\n1 rue garanciÃ¨re 11100 nar
 bonne\nwww.larcencieldupartage.org\n\nPour plus d'information, aller s
 ur https://epanews.fr/events/atelier-cr-atif-adulte-guirlande-lumineus
 e
DTSTART;TZID=Europe/Paris:20161128T090000
DTEND;TZID=Europe/Paris:20161128T110000
CATEGORIES:11
LOCATION:narbonne
WEBSITE:http://www.larcencieldupartage.org
URL:http://www.larcencieldupartage.org
CONTACT:0623013596
ORGANIZER;CN="L'arc en ciel du partage":https://epanews.fr/profile/Lar
 cencieldupartage
ATTACH;FMTTYPE="image/jpeg":http://storage.ning.com/topology/rest/1.0/
 file/get/1663626615?profile=original
ATTENDEE;ROLE=REQ-PARTICIPANT;PARTSTAT=ACCEPTED;RSVP=TRUE;CN="L'arc en
  ciel du partage":https://epanews.fr/profile/Larcencieldupartage
END:VEVENT
END:VCALENDAR
