BEGIN:VCALENDAR
PRODID:NingEventWidget-v1
VERSION:2.0
METHOD:PUBLISH
BEGIN:VTIMEZONE
TZID:Europe/Paris
X-LIC-LOCATION:Europe/Paris
BEGIN:DAYLIGHT
TZOFFSETFROM:+0100
TZOFFSETTO:+0200
TZNAME:CEST
DTSTART:19700329T020000
RRULE:FREQ=YEARLY;BYMONTH=3;BYDAY=-1SU
END:DAYLIGHT
BEGIN:STANDARD
TZOFFSETFROM:+0200
TZOFFSETTO:+0100
TZNAME:CET
DTSTART:19701025T030000
RRULE:FREQ=YEARLY;BYMONTH=10;BYDAY=-1SU
END:STANDARD
END:VTIMEZONE
BEGIN:VEVENT
UID:2485226:Event:2746281
DTSTAMP:20260424T200924Z
SUMMARY:atelier crÃ©atif adulte - bouillotte seche
DESCRIPTION:Atelier crÃ©atif adultes - couture : bouillote sÃ¨che par 
 Mes petits ateliers Narbonne-Â \n\nLundi 28 novembre 2016 de 14h00 Ã  
 16h00Â \n\nL'atelier dure 2 heures, vous apprenez Ã  confectionner une
  bouillotte sÃ¨che, idÃ©ale pour affronter le froid ou pour calmer les
  courbatures.Â \n\nTout le matÃ©riel est fourni et vous repartez avec 
 votre crÃ©ation.Â \n\nÂ Si vous disposez d'une machine Ã  coudre porta
 tive n'hÃ©sitez pas Ã  la ramener vous serez plus Ã  l'aise avec votre
  machine, sinon nous mettons des machines Ã  votre disposition.Â \n\nÂ
  Groupe Ã  partir de 4 personnes et 12 personnes maxiÂ \n\nTarif 25â‚¬
  non adhÃ©rent 20â‚¬ adhÃ©rent\n\nRÃ©servations NadÃ¨ge 06.23.01.35.96
  larcencieldupartage@sfr.fr\n\nL'arc en ciel du partage\n1 rue Garanci
 Ã¨re (cÃ´tÃ© quai de lorraine) 11100 NARBONNE\n\nwww.larcencielduparta
 ge.org\n\nPour plus d'information, aller sur https://epanews.fr/events
 /atelier-cr-atif-adulte-bouillotte-seche
DTSTART;TZID=Europe/Paris:20161128T140000
DTEND;TZID=Europe/Paris:20161128T160000
CATEGORIES:11
LOCATION:narbonne
WEBSITE:http://www.larcencieldupartage.org
URL:http://www.larcencieldupartage.org
CONTACT:0623013596
ORGANIZER;CN="L'arc en ciel du partage":https://epanews.fr/profile/Lar
 cencieldupartage
ATTACH;FMTTYPE="image/jpeg":http://storage.ning.com/topology/rest/1.0/
 file/get/1663625551?profile=original
ATTENDEE;ROLE=REQ-PARTICIPANT;PARTSTAT=ACCEPTED;RSVP=TRUE;CN="L'arc en
  ciel du partage":https://epanews.fr/profile/Larcencieldupartage
END:VEVENT
END:VCALENDAR
