BEGIN:VCALENDAR
PRODID:NingEventWidget-v1
VERSION:2.0
METHOD:PUBLISH
BEGIN:VTIMEZONE
TZID:Europe/Paris
X-LIC-LOCATION:Europe/Paris
BEGIN:DAYLIGHT
TZOFFSETFROM:+0100
TZOFFSETTO:+0200
TZNAME:CEST
DTSTART:19700329T020000
RRULE:FREQ=YEARLY;BYMONTH=3;BYDAY=-1SU
END:DAYLIGHT
BEGIN:STANDARD
TZOFFSETFROM:+0200
TZOFFSETTO:+0100
TZNAME:CET
DTSTART:19701025T030000
RRULE:FREQ=YEARLY;BYMONTH=10;BYDAY=-1SU
END:STANDARD
END:VTIMEZONE
BEGIN:VEVENT
UID:2485226:Event:699002
DTSTAMP:20260423T135339Z
SUMMARY:Atelier Couleurs et Bien Etre
DESCRIPTION:FormÃ©e au langage des couleurs parÂ W. Berton, je vous in
 vite Ã  venir dÃ©couvrir le concept \"Couleur Energie\" et ses multipl
 es applications. Prenez conscience du pouvoir que les couleurs exercen
 t sur nous et donc de l'importance de s'entourer des bonnes teintes po
 ur un mieux Ãªtre au quotidien. En effet, chaque couleur, par l'Ã©nerg
 ie particuliÃ¨re qu'elle diffuse,Â favorise des rÃ©actions et des comp
 ortements Â bien spÃ©cifiques. DÃ¨s l'instant ou vous saurez vous ento
 urer des couleurs dont vous avez rÃ©ellement besoin, les solutions ou 
 objetifs souhaitÃ©s seront Ã  portÃ©e de main.\nBonus: dÃ©couvrez la c
 ouleur dont vous avez besoin actuellement, ce qu'elle signifie et ce q
 u'elle peut vous aider Ã  vivre ou surmonter. Vous aurez l'opportunitÃ
 © de la porter pour en ressentir les effets.\nCoÃ»t: 20 â‚¬ (goÃ»ter m
 aison inclus)\nN'hÃ©sitez pas Ã  me contacter pour toute information c
 omplÃ©mentaire ou rÃ©servation\nAu plaisir de nous rencontrer,\n\nPour
  plus d'information, aller sur https://epanews.fr/events/atelier-coule
 urs-et-bien-etre
DTSTART;TZID=Europe/Paris:20120228T143000
DTEND;TZID=Europe/Paris:20120228T163000
CATEGORIES:34
LOCATION:Montpellier
WEBSITE:
URL:
CONTACT:06.19.13.03.27
ORGANIZER;CN=Vanessa:https://epanews.fr/profile/Vanessa668
ATTACH;FMTTYPE="image/jpeg":http://storage.ning.com/topology/rest/1.0/
 file/get/1662558324?profile=original
ATTENDEE;ROLE=REQ-PARTICIPANT;PARTSTAT=ACCEPTED;RSVP=TRUE;CN=Vanessa:h
 ttps://epanews.fr/profile/Vanessa668
END:VEVENT
END:VCALENDAR
