BEGIN:VCALENDAR
PRODID:NingEventWidget-v1
VERSION:2.0
METHOD:PUBLISH
BEGIN:VTIMEZONE
TZID:Europe/Paris
X-LIC-LOCATION:Europe/Paris
BEGIN:DAYLIGHT
TZOFFSETFROM:+0100
TZOFFSETTO:+0200
TZNAME:CEST
DTSTART:19700329T020000
RRULE:FREQ=YEARLY;BYMONTH=3;BYDAY=-1SU
END:DAYLIGHT
BEGIN:STANDARD
TZOFFSETFROM:+0200
TZOFFSETTO:+0100
TZNAME:CET
DTSTART:19701025T030000
RRULE:FREQ=YEARLY;BYMONTH=10;BYDAY=-1SU
END:STANDARD
END:VTIMEZONE
BEGIN:VEVENT
UID:2485226:Event:1041113
DTSTAMP:20260424T025748Z
SUMMARY:Atelier \"Constellations PlanÃ©taires\"
DESCRIPTION:Atelier collectif\nInvitation Ã  explorer en conscience,Â 
 l'Ã©coute intÃ©rieure, voir ce qui se joue dans nos attitudes inconsci
 entes, dÃ©velopper notre intuition, dÃ©lester des fardeaux, prendre co
 nfiance dans nos capacitÃ©s, partager\nanimÃ© par Dominique, astro-thÃ
 ©rapeute, crÃ©atrice des ateliers de Constellations PlanÃ©taires\nPart
 icipation : 60 â‚¬ (si problÃ¨me financier, il y a toujours une soluti
 on)\nau Tempo Sylvabelle, 71 rue Sylvabelle, 13006 Marseille, parking 
 gratuit Ã  l'intÃ©rieur\n\nPour plus d'information, aller sur https://
 epanews.fr/events/atelier-constellations-plan-taires-3
DTSTART;TZID=Europe/Paris:20121129T100000
DTEND;TZID=Europe/Paris:20121129T173000
CATEGORIES:13
LOCATION:Tempo Sylvabelle
WEBSITE:https://maps.google.fr/
URL:https://maps.google.fr/
CONTACT:06 89 09 76 95
ORGANIZER;CN=dominique:https://epanews.fr/profile/domi
ATTACH;FMTTYPE="image/jpeg":http://storage.ning.com/topology/rest/1.0/
 file/get/1662703135?profile=original
ATTENDEE;ROLE=REQ-PARTICIPANT;PARTSTAT=ACCEPTED;RSVP=TRUE;CN=dominique
 :https://epanews.fr/profile/domi
END:VEVENT
END:VCALENDAR
