BEGIN:VCALENDAR
PRODID:NingEventWidget-v1
VERSION:2.0
METHOD:PUBLISH
BEGIN:VTIMEZONE
TZID:Europe/Paris
X-LIC-LOCATION:Europe/Paris
BEGIN:DAYLIGHT
TZOFFSETFROM:+0100
TZOFFSETTO:+0200
TZNAME:CEST
DTSTART:19700329T020000
RRULE:FREQ=YEARLY;BYMONTH=3;BYDAY=-1SU
END:DAYLIGHT
BEGIN:STANDARD
TZOFFSETFROM:+0200
TZOFFSETTO:+0100
TZNAME:CET
DTSTART:19701025T030000
RRULE:FREQ=YEARLY;BYMONTH=10;BYDAY=-1SU
END:STANDARD
END:VTIMEZONE
BEGIN:VEVENT
UID:2485226:Event:1962800
DTSTAMP:20260421T135913Z
SUMMARY:Modification demandÃ©e
DESCRIPTION:Le Channeling est un art qui peut s'apprendre. Il suffit d
 e connaitre les techniques de canalisation mais aussi de se sentir rel
 ier spirituellement Ã  un guide, Ã  son moi supÃ©rieur ou Ã  l'intelli
 gence universelle. S'ouvrir au Channeling permet d'accomplir une percÃ
 ©e vers une croissance spirituelle accÃ©lÃ©rÃ©e afin de trouver les rÃ
 ©ponses Ã  nos interrogations.\n1Ã©re Partie: Les Archanges\n2Ã©me Par
 tie: Exercices de canalisation\nCommunication par Ã©criture\n60â‚¬\nht
 tp://magnetisme34.canalblog.com/archives/2014/06/10/30050862.html\n\nP
 our plus d'information, aller sur https://epanews.fr/events/atelier-co
 nnexion-spirituelle
DTSTART;TZID=Europe/Paris:20140726T140000
DTEND;TZID=Europe/Paris:20140726T180000
CATEGORIES:34
LOCATION:le grau d'agde
WEBSITE:https://www.google.fr/maps/place/27+Chemin+Fin+de+Si%C3%A8cle/
 @43.2869673,3.461261,17z/data=!3m1!4b1!4m2!3m1!1s0x12b13cd8201468e3:0x
 69e49bebb46958b7
URL:https://www.google.fr/maps/place/27+Chemin+Fin+de+Si%C3%A8cle/@43.
 2869673,3.461261,17z/data=!3m1!4b1!4m2!3m1!1s0x12b13cd8201468e3:0x69e4
 9bebb46958b7
CONTACT:0621514073
ORGANIZER;CN="Nathalie Arboux-EnergÃ©ticienne":https://epanews.fr/prof
 ile/ARBOUXNathalie
ATTACH;FMTTYPE="image/jpeg":http://storage.ning.com/topology/rest/1.0/
 file/get/1663166389?profile=original
ATTENDEE;ROLE=REQ-PARTICIPANT;PARTSTAT=ACCEPTED;RSVP=TRUE;CN="Nathalie
  Arboux-EnergÃ©ticienne":https://epanews.fr/profile/ARBOUXNathalie
END:VEVENT
END:VCALENDAR
