BEGIN:VCALENDAR
PRODID:NingEventWidget-v1
VERSION:2.0
METHOD:PUBLISH
BEGIN:VTIMEZONE
TZID:Europe/Paris
X-LIC-LOCATION:Europe/Paris
BEGIN:DAYLIGHT
TZOFFSETFROM:+0100
TZOFFSETTO:+0200
TZNAME:CEST
DTSTART:19700329T020000
RRULE:FREQ=YEARLY;BYMONTH=3;BYDAY=-1SU
END:DAYLIGHT
BEGIN:STANDARD
TZOFFSETFROM:+0200
TZOFFSETTO:+0100
TZNAME:CET
DTSTART:19701025T030000
RRULE:FREQ=YEARLY;BYMONTH=10;BYDAY=-1SU
END:STANDARD
END:VTIMEZONE
BEGIN:VEVENT
UID:2485226:Event:976907
DTSTAMP:20260423T173422Z
SUMMARY:Atelier Connexion Quantique
DESCRIPTION:Lâ€™association ANAHATA a le plaisir de vous annoncer, dan
 s le cadre du cycle d'ateliersÂ Vibration Originelle, lâ€™atelier CONN
 EXION QUANTIQUE conÃ§u et animÃ© par Fabienne BROCARD (www.connexionqu
 antique.com), les 24 et 25 novembre 2012 (10h-17h).\nVibrer par notre 
 nature profonde et intrinsÃ¨que dâ€™ÃŠtre libre est possible, câ€™est 
 la perspective que propose cet atelier, favorisant ainsi lâ€™autonomis
 ation de lâ€™Ãªtre vis-Ã -vis de toute forme extÃ©rieure Ã  lui-mÃªme,
  pour le conduire au cÅ“ur de lui-mÃªme, son meilleur guide.\n2 jours 
 de libÃ©rations personnelles & dâ€™acquisition de clefs dâ€™autoguÃ©ri
 son\nÂ« Je suis mon propre guÃ©risseur dÃ¨s que je me connecte Ã  la s
 ource qui mâ€™a crÃ©Ã©e, dont lâ€™alchimie transmute lâ€™ombre en lumi
 Ã¨reÂ Â» F.B.\nCONNEXION QUANTIQUE, alchimie de lâ€™Essence de lâ€™ÃŠT
 RE & de la MÃ‰THODE DES 2 POINTS, est un ensemble dâ€™initiations avec
  le champ quantique, siÃ¨ge de lâ€™abondance et de connexions illimitÃ
 ©es, entre dimension humaine et infini.\nCONNEXION QUANTIQUE\nDEVOILE 
 comment activer les potentiels en sommeil prÃ©sents en chacun Ã  tout 
 moment, durablement, clefs vivantes - disponibles Ã  lâ€™infini.\nOUVR
 E Ã  la perception immÃ©diate du champ Universel â€“ principe autonome
  dâ€™auto rÃ©gÃ©nÃ©ration continue oÃ¹ la vie abonde â€“ fluide â€“ ex
 pansion â€“ perfection.\nGENERE la transmutation des blocages â€“ lâ€™
 activation des principes dâ€™auto guÃ©rison â€“ de lâ€™Ã©quilibre & lâ
 €™acquisition de ressources utiles.\nLâ€™atelier CONNEXION QUANTIQUE Ã
 ©veille Ã  un Ã©tat dâ€™Ãªtre en connexion continue et quotidienne ; i
 l ouvre :\n\nÃ  la prise de conscience que nous sommes Ã  la fois le m
 oteur et le carburant,\nÃ  la connaissance et Ã  la comprÃ©hension des
  mÃ©canismes de la pensÃ©e et de leurs applications favorables,\nÃ  la
  comprÃ©hension de la nÃ©cessitÃ© dâ€™Ã©lever nos frÃ©quences vibratoi
 res et Ã  lâ€™acquisition des moyens pour y parvenir,\nÃ  la capacitÃ©
  d'expÃ©rimenter que la rencontre de lâ€™Ã©quilibre avec le corps et l
 â€™esprit, le microcosme et le macrocosme ne se trouvent pas dans une 
 technique Ã  part, utilisÃ©e ponctuellement, mais dans un Ã©tat dâ€™Ãª
 tre qui opÃ¨re invariablement une connexion avec le Tout,\nÃ  mesurer 
 que ces clefs, accessibles Ã  tous, sâ€™invitent Ã  Ãªtre utilisÃ©es q
 uotidiennement, Ã  chaque instant respirÃ©, pour gÃ©nÃ©rer et mainteni
 r de maniÃ¨re durable un Ã©quilibre physique, psychique et Ã©nergÃ©tiq
 ue, dont la fusion est la voie de lâ€™ascension,\nÃ  lâ€™acquisition d
 â€™outils incomparables, de transformation des blocages et dâ€™intÃ©gr
 ation de ressources utiles, en relation avec le champ quantique ou cha
 mp de tous les possibles, sur tous les rÃ¨gnes, entitÃ©s et situations
  comme sur soi et sur les autres, en direct et Ã  distance,\nÃ  lâ€™ut
 ilisation et Ã  la vÃ©rification immÃ©diate de lâ€™impact de ces outil
 s, par les transmutations et libÃ©rations concrÃ¨tes et profondes quâ€
 ™ils opÃ¨rent inÃ©vitablement, pendant les deux jours dâ€™atelier, par
  les problÃ©matiques collectives rÃ©vÃ©lÃ©es dans la dynamique du grou
 pe.\n\n- Tarif : 200 euros\nPour 3 personnes sâ€™inscrivant en mÃªme t
 emps (sur un seul et mÃªme bulletin dâ€™inscription), la 3Ã¨me inscrip
 tion est Ã  demi-tarif.\n- Accessible Ã  tous. RÃ©servation indispensa
 ble car effectif limitÃ© Ã  20 personnes.\n- Contact : atelier@ana-h-a
 ta.org\nAffVibOriginelle.pdf\n\nPour plus d'information, aller sur htt
 ps://epanews.fr/events/atelier-connexion-quantique
DTSTART;TZID=Europe/Paris:20121124T000000
DTEND;TZID=Europe/Paris:20121125T235900
CATEGORIES:38, 01, 07, 26, 42, 69, 73, 74
LOCATION:GRENOBLE
WEBSITE:
URL:
CONTACT:
ORGANIZER;CN=anahata:https://epanews.fr/profile/anahata
ATTACH;FMTTYPE="image/jpeg":http://storage.ning.com/topology/rest/1.0/
 file/get/1662680685?profile=original
ATTENDEE;ROLE=REQ-PARTICIPANT;PARTSTAT=ACCEPTED;RSVP=TRUE;CN=anahata:h
 ttps://epanews.fr/profile/anahata
END:VEVENT
END:VCALENDAR
