BEGIN:VCALENDAR
PRODID:NingEventWidget-v1
VERSION:2.0
METHOD:PUBLISH
BEGIN:VTIMEZONE
TZID:Europe/Paris
X-LIC-LOCATION:Europe/Paris
BEGIN:DAYLIGHT
TZOFFSETFROM:+0100
TZOFFSETTO:+0200
TZNAME:CEST
DTSTART:19700329T020000
RRULE:FREQ=YEARLY;BYMONTH=3;BYDAY=-1SU
END:DAYLIGHT
BEGIN:STANDARD
TZOFFSETFROM:+0200
TZOFFSETTO:+0100
TZNAME:CET
DTSTART:19701025T030000
RRULE:FREQ=YEARLY;BYMONTH=10;BYDAY=-1SU
END:STANDARD
END:VTIMEZONE
BEGIN:VEVENT
UID:2485226:Event:2554885
DTSTAMP:20260421T151108Z
SUMMARY:Atelier Confiance et estime de Soi
DESCRIPTION:Apprendre Ã  s'aimer pour prendre confiance en soi et augm
 enter son estime afin d'attirer les bonnes personnes et les bons Ã©vÃ©
 nements Ã  soi. \n\nUne journÃ©e pour prendre soin de soi\nAtelier de 
 10h Ã  18h\navec repas partagÃ© Ã  midi\nÃ  Lyon\nÂ \nDurant cette jou
 rnÃ©e, vous expÃ©rimenterez \n* des exercices simples et pratiques pou
 r amÃ©liorer l'estime de soi\n* comment sortir de son rÃ´le de victime
  et devenir responsable de sa vie\n* le pouvoir de la musique et du mo
 uvement sur l'estime de soi\n* le recentrage par la mÃ©ditation et la 
 respiration\n* de petits exercices simples pour augmenter la confiance
  en soi et en l'autre\n* la puissance de la gratitude et du pardon\nÂ 
 Vous repartirez avec un fascicule comportant certains exercices faits 
 dans l'atelier ainsi que des tas d'autres propositions pour continuer 
 ce que vous aurez initiÃ© dans cet atelier et travailler sur l'estime 
 de soi, seul chez vous.\nÂ \nPrixÂ  : 50â‚¬\nL'argent ne doit pas Ãªtr
 e un frein, on peut toujours trouver une solution.\nPossibilitÃ© de rÃ
 ©gler en Points JEU pour ceux qui y adhÃ¨rent\nPrÃ©voir :\n- un joli c
 arnet pour noter tout ce que vous allez apprendre sur vous et refaire 
 les exercices chez vous\n- des crayons de couleur et/ou des feutres (s
 i vous en avez, il n'est pas nÃ©cessaire d'en acheter)\n- quelque chos
 e Ã  partager pour le repas de midi\n\nPour plus de renseignements, vo
 us pouvez visiter mon site : Naturoval Au Coeur de Soi\nÂ \n\n\nPour p
 lus d'information, aller sur https://epanews.fr/events/atelier-confian
 ce-et-estime-de-soi
DTSTART;TZID=Europe/Paris:20160124T000000
DTEND;TZID=Europe/Paris:20160124T235900
CATEGORIES:69
LOCATION:Lyon
WEBSITE:http://www.naturoval.fr
URL:http://www.naturoval.fr
CONTACT:06 30 80 38 56
ORGANIZER;CN=Naturoval:https://epanews.fr/profile/Naturoval
ATTACH;FMTTYPE="image/jpeg":
ATTENDEE;ROLE=REQ-PARTICIPANT;PARTSTAT=ACCEPTED;RSVP=TRUE;CN=Naturoval
 :https://epanews.fr/profile/Naturoval
END:VEVENT
END:VCALENDAR
