BEGIN:VCALENDAR
PRODID:NingEventWidget-v1
VERSION:2.0
METHOD:PUBLISH
BEGIN:VTIMEZONE
TZID:Europe/Paris
X-LIC-LOCATION:Europe/Paris
BEGIN:DAYLIGHT
TZOFFSETFROM:+0100
TZOFFSETTO:+0200
TZNAME:CEST
DTSTART:19700329T020000
RRULE:FREQ=YEARLY;BYMONTH=3;BYDAY=-1SU
END:DAYLIGHT
BEGIN:STANDARD
TZOFFSETFROM:+0200
TZOFFSETTO:+0100
TZNAME:CET
DTSTART:19701025T030000
RRULE:FREQ=YEARLY;BYMONTH=10;BYDAY=-1SU
END:STANDARD
END:VTIMEZONE
BEGIN:VEVENT
UID:2485226:Event:3054291
DTSTAMP:20260421T015225Z
SUMMARY:Atelier conférence sur les Mémoires Akashiques
DESCRIPTION:près le succès du Salon ZEN, où vous avez été très n
 ombreux et nombreuses à venir assister à ses ateliers-conférences, 
 Lalitha nous fait la joie de revenir pour le Salon Du Rendez-vous de l
 a Conscience, du 30 janvier au 3 février 2020 à Porte de Versailles 
 - Ce salon est situé dans la même enceinte que le Salon \"Bien-Être
  et Médecine douce\" qui a lieu au même moment, et le stand de Lalit
 ha sera : Hall 4 - Stand CS57Lors de ce salon, Lalitha proposera 3 ate
 liers-conférence qui promettent d'être à nouveau généreux et pass
 ionnants par leur énergie tellement communicative et ses enseignement
 s souvent révolutionnaires.- Samedi 1er février à 17h : Les Mémoir
 es Akashiques comme chemin de développement de Conscience.- Dimanche 
 2 février à 14h : L'Axe du praticien en ego et Conscience - disposer
  de l'ego pour le développement de Conscience.- Lundi 3 février à 1
 7h : Votre incarnation : un rendez-vous entre les Mémoires Akashiques
  et votre développement de Conscience.Lalitha sera présente sur le s
 tand CS57 : La Voie de L'Expansion de Conscience où vous pourrez la r
 encontrer.Au grand plaisir de vous y retrouver\n\nPour plus d'informat
 ion, aller sur https://epanews.fr/events/atelier-conf-rence-sur-les-m-
 moires-akashiques-1
DTSTART;TZID=Europe/Paris:20200202T140000
DTEND;TZID=Europe/Paris:20200202T150000
CATEGORIES:75
LOCATION:Porte de Versailles, Salon RDV de la Conscience (dans l'encei
 nte du Salon bien être et medecine douce)
WEBSITE:https://salondestherapies.fr/
URL:https://salondestherapies.fr/
CONTACT:
ORGANIZER:
ATTACH;FMTTYPE="image/jpeg":
ATTENDEE;ROLE=REQ-PARTICIPANT;PARTSTAT=ACCEPTED;RSVP=TRUE;CN="Lalitha 
 Berton":https://epanews.fr/profile/egoetConscience
END:VEVENT
END:VCALENDAR
